BEGIN:VCALENDAR
VERSION:2.0
PRODID:-//wp-events-plugin.com//7.2.3.1//EN
TZID:America/Los_Angeles
X-WR-TIMEZONE:America/Los_Angeles
BEGIN:VEVENT
UID:15683@fakce.org
DTSTART;TZID=America/Los_Angeles:20230515T180000
DTEND;TZID=America/Los_Angeles:20230515T210000
DTSTAMP:20230410T151803Z
URL:https://fakce.org/events/online-daily-life-with-autism-2023-05-15/
SUMMARY:Online | Daily Life with Autism
DESCRIPTION:Based on the book by Richard Bass\, this workshop will provide
  information about signs and symptoms of autism\, common misconceptions\,
  life through the eyes of your child with autism\, how a diagnosis is made
 \, local specialists\, support that is available\, advancements in underst
 anding autism and the brain\, 6 types of treatment\, and 20 games you can 
 play at home to help social skills.\nRegistration will close on Monday\, M
 ay 15\, 2023\, at 7am \n***Please Note: This class will be facilitated on
  the online platform called Zoom. Internet access and access to a computer
 /laptop/tablet/smartphone is required to attend.\nThe link to attend this 
 class will be provided at registration.\nPlease follow the link below for 
 a brief tutorial on how to sign up for a free Zoom account.\nZoom User Gui
 de
ATTACH;FMTTYPE=image/jpeg:https://fakce.org/wp-content/uploads/2016/08/run
 away.jpg
CATEGORIES:Classes,Online Classes,Specialty Classes
LOCATION:Zoom\, 0000 Zoom \, San Diego\, United States
X-APPLE-STRUCTURED-LOCATION;VALUE=URI;X-ADDRESS=0000 Zoom \, San Diego\, Un
 ited States;X-APPLE-RADIUS=100;X-TITLE=Zoom:geo:0,0
END:VEVENT
BEGIN:VTIMEZONE
TZID:America/Los_Angeles
X-LIC-LOCATION:America/Los_Angeles
BEGIN:DAYLIGHT
DTSTART:20230312T030000
TZOFFSETFROM:-0800
TZOFFSETTO:-0700
TZNAME:PDT
END:DAYLIGHT
END:VTIMEZONE
END:VCALENDAR