BEGIN:VCALENDAR
VERSION:2.0
PRODID:-//wp-events-plugin.com//7.2.3.1//EN
TZID:America/Los_Angeles
X-WR-TIMEZONE:America/Los_Angeles
BEGIN:VEVENT
UID:14211@fakce.org
DTSTART;TZID=America/Los_Angeles:20220412T180000
DTEND;TZID=America/Los_Angeles:20220412T210000
DTSTAMP:20220210T213523Z
URL:https://fakce.org/events/online-cultural-considerations-2022-04-12/
SUMMARY:Online |  Cultural Considerations
DESCRIPTION:Recognizing a child’s cultural connections is important to he
 lping them to identify who they are and where they come from. Participants
  will learn ways to embrace and support children’s cultural identities a
 nd racial connections.\nRegistration will close on Tuesday\, April 12\, 20
 22\, at 7 am\n&nbsp\;\n***Please Note: This class will be facilitated on t
 he online platform called Zoom. Internet access and access to a computer/l
 aptop/tablet/smartphone is required to attend.\nThe link to attend this cl
 ass will be provided at registration.\nPlease follow the link below for a 
 brief tutorial on how to sign up for a free Zoom account.\nZoom User Guide
ATTACH;FMTTYPE=image/jpeg:https://fakce.org/wp-content/uploads/2016/08/o-C
 LASSROOM-facebook.jpg
CATEGORIES:Classes,Online Classes,Specialty Classes
LOCATION:Zoom\, 0000 Zoom \, San Diego\, United States
X-APPLE-STRUCTURED-LOCATION;VALUE=URI;X-ADDRESS=0000 Zoom \, San Diego\, Un
 ited States;X-APPLE-RADIUS=100;X-TITLE=Zoom:geo:0,0
END:VEVENT
BEGIN:VTIMEZONE
TZID:America/Los_Angeles
X-LIC-LOCATION:America/Los_Angeles
BEGIN:DAYLIGHT
DTSTART:20220313T030000
TZOFFSETFROM:-0800
TZOFFSETTO:-0700
TZNAME:PDT
END:DAYLIGHT
END:VTIMEZONE
END:VCALENDAR