BEGIN:VCALENDAR
VERSION:2.0
PRODID:-//wp-events-plugin.com//7.2.3.1//EN
TZID:America/Los_Angeles
X-WR-TIMEZONE:America/Los_Angeles
BEGIN:VEVENT
UID:15446@fakce.org
DTSTART;TZID=America/Los_Angeles:20230107T090000
DTEND;TZID=America/Los_Angeles:20230107T153000
DTSTAMP:20221208T231210Z
URL:https://fakce.org/events/online-creative-interventions-for-challenging
 -children-and-adolescents-2023-01-07/
SUMMARY:Online | Creative Interventions for Challenging Children and Adoles
 cents
DESCRIPTION:Children can come into your home with challenging and risky beh
 aviors. Changing these behaviors can be a great challenge. This class will
  give Resource Families tips\, tools\, and techniques to help children cal
 m their anxieties\, worries and fears\, and help change the beliefs that t
 hey carry in their invisible suitcase. Together in this interactive class\
 , we will expand our parenting toolbox and learn how to regroup and rally 
 back to being the parent we want to be and that our children need.\n\n&nbs
 p\;\nRegistration will close on Friday\, January 6\, 2023 at 12 pm\n***Ple
 ase Note: This class will be facilitated on the online platform called Zo
 om. Internet access and access to a computer/laptop/tablet/smartphone is r
 equired to attend.\nThe link to attend this class will be provided at regi
 stration.\nPlease follow the link below for a brief tutorial on how to sig
 n up for a free Zoom account.\nZoom User Guide
ATTACH;FMTTYPE=image/jpeg:https://fakce.org/wp-content/uploads/2015/03/000
 003763082.jpg
CATEGORIES:Classes,Specialty Classes
LOCATION:Zoom\, 0000 Zoom \, San Diego\, United States
X-APPLE-STRUCTURED-LOCATION;VALUE=URI;X-ADDRESS=0000 Zoom \, San Diego\, Un
 ited States;X-APPLE-RADIUS=100;X-TITLE=Zoom:geo:0,0
END:VEVENT
BEGIN:VTIMEZONE
TZID:America/Los_Angeles
X-LIC-LOCATION:America/Los_Angeles
BEGIN:STANDARD
DTSTART:20221106T010000
TZOFFSETFROM:-0700
TZOFFSETTO:-0800
TZNAME:PST
END:STANDARD
END:VTIMEZONE
END:VCALENDAR