BEGIN:VCALENDAR
VERSION:2.0
PRODID:-//wp-events-plugin.com//7.2.3.1//EN
TZID:America/Los_Angeles
X-WR-TIMEZONE:America/Los_Angeles
BEGIN:VEVENT
UID:16651@fakce.org
DTSTART;TZID=America/Los_Angeles:20240214T150000
DTEND;TZID=America/Los_Angeles:20240214T180000
DTSTAMP:20231208T212458Z
URL:https://fakce.org/events/online-cooperation-2024-02-14/
SUMMARY:Online | Cooperation
DESCRIPTION:Description: In this fun\, interactive\, game‐based webinar\,
  you’ll experience what recent research has discovered about century‐o
 ld beliefs and uses of cooperation versus competition in motivating childr
 en to perform at their best. You’ll compare and contrast the diﬀerent 
 experiences you have during this webinar to see for yourself what research
  says about the benefits and pitfalls you could encounter with each. Prepa
 re to have fun while learning the often‐surprising outcomes research has
  discovered!\nRegistration will close on Wednesday\, February 14\, 2024\, 
 at 7 am\n&nbsp\;\nThe Foster-Adoptive Parents Toolshop® training series i
 s a comprehensive 30+ hour evidence-based\, trauma informed parenting curr
 iculum for foster and kinship caregivers and adoptive parents. The entire 
 series will be oﬀered over the next 8 months\, September 2022\, June 202
 3 and will be taught by the curriculum’s author Jody Johnston Pawel\, LS
 W\, CFLE\, CTSS.\nWhile each individual workshop is valuable as a stand-al
 one workshop\, when combined they create a parenting system called The Uni
 versal Blueprint® for Parenting Success. You can use this universal syste
 m to prevent common parenting challenges and plan personalized responses a
 nd solutions to those that arise\, based on the child\, circumstance\, and
  family involved. The series oﬀers an overview of the system and its too
 ls\, plus the in-depth workshops in order\, so they build on each other.\n
 Don’t worry if you can’t take them all\, you can take one\, some or as
  many as you wish! The Series will be oﬀered on the 2nd and 4th Mondays 
 from September 2022 to June 2023 from 3-6pm. Please note there are some 2-
  part trainings. You must attend both sessions to get credit.\nGuest Instr
 uctor: Jody Johnston-Pawel\, LSW\, CFLE\nJody Johnston Pawel is a Licensed
  Social Worker in the State of Ohio and a Certified Family Life Educator. 
 She is the author of the award-winning The Parent’s Toolshop® book and 
 Founder/CEO of the Relationship Toolshop® International Training Institut
 e. LLC.\n\n&nbsp\;\n***Please Note: This class will be facilitated on the 
 online platform called Zoom. Internet access and access to a computer/lapt
 op/tablet/smartphone is required to attend.\nThe link to attend this class
  will be provided at registration.\nPlease follow the link below for a bri
 ef tutorial on how to sign up for a free Zoom account.\nZoom User Guide
ATTACH;FMTTYPE=image/jpeg:https://fakce.org/wp-content/uploads/2021/05/Fly
 ing-Boy.jpg
CATEGORIES:Classes,Online Classes,Specialty Classes
LOCATION:Zoom\, 0000 Zoom \, San Diego\, United States
X-APPLE-STRUCTURED-LOCATION;VALUE=URI;X-ADDRESS=0000 Zoom \, San Diego\, Un
 ited States;X-APPLE-RADIUS=100;X-TITLE=Zoom:geo:0,0
END:VEVENT
BEGIN:VTIMEZONE
TZID:America/Los_Angeles
X-LIC-LOCATION:America/Los_Angeles
BEGIN:STANDARD
DTSTART:20231105T010000
TZOFFSETFROM:-0700
TZOFFSETTO:-0800
TZNAME:PST
END:STANDARD
END:VTIMEZONE
END:VCALENDAR