BEGIN:VCALENDAR
VERSION:2.0
PRODID:-//wp-events-plugin.com//7.2.3.1//EN
TZID:America/Los_Angeles
X-WR-TIMEZONE:America/Los_Angeles
BEGIN:VEVENT
UID:17880@fakce.org
DTSTART;TZID=America/Los_Angeles:20250812T100000
DTEND;TZID=America/Los_Angeles:20250812T123000
DTSTAMP:20250616T205145Z
URL:https://fakce.org/events/online-considering-the-trauma-self-esteem-hai
 r-skin-care-for-black-multi-ethnic-foster-youth-2025-08-12/
SUMMARY:Online | Considering the Trauma\, Self-Esteem\, Hair & Skin Care fo
 r Black & Multi-Ethnic Foster Youth
DESCRIPTION:Instructor: Tanisha Fulcher\nDescription:This is a trauma‐inf
 ormed training on the significance of haircare &amp\; skincare for multi
 ‐ethnic youth in out‐of‐home placement. Multi‐Ethnic foster youth 
 are disproportionately represented in the foster care system and are more 
 likely to be placed in out‐of‐home care. Haircare can have a significa
 nt impact on a foster youth’s behaviors\, emotions\, and self‐esteem\,
  especially when they are placed with resource parents who do not look lik
 e them. The goal of this training is to provide a trauma‐informed perspe
 ctive while also equipping participants with tools and skills to help miti
 gate this issue.\n\n\n***Please Note: This class will be facilitated on th
 e Zoom platform.\nInternet access and access to a computer/laptop/tablet/s
 martphone is required to attend.\nWe kindly request that participants avoi
 d using distracting virtual backgrounds. For privacy\, we recommend using 
 the blur feature instead.\nYou cannot take this class in a vehicle.\nThe Z
 oom link to attend this class will be provided via email.\nPlease follow t
 he link below for a brief tutorial on how to sign up for a free Zoom accou
 nt.\nZoom User Guide
ATTACH;FMTTYPE=image/jpeg:https://fakce.org/wp-content/uploads/2023/04/get
 tyimages-932451838-612x612-1.jpg
CATEGORIES:Classes,Online Classes,Specialty Classes
LOCATION:Zoom\, 0000 Zoom \, San Diego\, United States
X-APPLE-STRUCTURED-LOCATION;VALUE=URI;X-ADDRESS=0000 Zoom \, San Diego\, Un
 ited States;X-APPLE-RADIUS=100;X-TITLE=Zoom:geo:0,0
END:VEVENT
BEGIN:VTIMEZONE
TZID:America/Los_Angeles
X-LIC-LOCATION:America/Los_Angeles
BEGIN:DAYLIGHT
DTSTART:20250309T030000
TZOFFSETFROM:-0800
TZOFFSETTO:-0700
TZNAME:PDT
END:DAYLIGHT
END:VTIMEZONE
END:VCALENDAR