BEGIN:VCALENDAR
VERSION:2.0
PRODID:-//wp-events-plugin.com//7.2.3.1//EN
TZID:America/Los_Angeles
X-WR-TIMEZONE:America/Los_Angeles
BEGIN:VEVENT
UID:17942@fakce.org
DTSTART;TZID=America/Los_Angeles:20251003T180000
DTEND;TZID=America/Los_Angeles:20251003T210000
DTSTAMP:20250819T095818Z
URL:https://fakce.org/events/online-conscious-discipline-2025-10-03/
SUMMARY:Online | Conscious Discipline
DESCRIPTION:Instructors: Jeanne Schwertfeger\, Resource/Adoptive Parent &am
 p\; Robin Thompson\, MSW\n\nDescription: Resource Parents\, caregivers and
  teachers serve as role models for children. This is especially true when
  it comes to managing emotions and understanding feelings. Conscious Disci
 pline is a comprehensive social‐ emotional and classroom management prog
 ram that uses everyday life events to teach children and adults self‐con
 trol\, conﬂict resolution\, character development and social skills. Con
 scious Discipline supports ﬁrst teaching ourselves about self‐control 
 and self‐regulation\, and then teaching children.\n***Please Note: This 
 class will be facilitated on the Zoom platform.\nInternet access and acces
 s to a computer/laptop/tablet/smartphone is required to attend.\nWe kindly
  request that participants avoid using distracting virtual backgrounds. Fo
 r privacy\, we recommend using the blur feature instead.\nYou cannot take 
 this class in a vehicle.\nThe Zoom link to attend this class will be provi
 ded via email.\nPlease follow the link below for a brief tutorial on how t
 o sign up for a free Zoom account.\nZoom User Guide
ATTACH;FMTTYPE=image/jpeg:https://fakce.org/wp-content/uploads/2021/05/Asi
 an-Family.jpg
CATEGORIES:Classes,Online Classes,Specialty Classes
LOCATION:Zoom\, 0000 Zoom \, San Diego\, United States
X-APPLE-STRUCTURED-LOCATION;VALUE=URI;X-ADDRESS=0000 Zoom \, San Diego\, Un
 ited States;X-APPLE-RADIUS=100;X-TITLE=Zoom:geo:0,0
END:VEVENT
BEGIN:VTIMEZONE
TZID:America/Los_Angeles
X-LIC-LOCATION:America/Los_Angeles
BEGIN:DAYLIGHT
DTSTART:20250309T030000
TZOFFSETFROM:-0800
TZOFFSETTO:-0700
TZNAME:PDT
END:DAYLIGHT
END:VTIMEZONE
END:VCALENDAR