BEGIN:VCALENDAR
VERSION:2.0
PRODID:-//wp-events-plugin.com//7.2.3.1//EN
TZID:America/Los_Angeles
X-WR-TIMEZONE:America/Los_Angeles
BEGIN:VEVENT
UID:18446@fakce.org
DTSTART;TZID=America/Los_Angeles:20260205T093000
DTEND;TZID=America/Los_Angeles:20260205T123000
DTSTAMP:20260115T205027Z
URL:https://fakce.org/events/online-connect-supporting-children-who-have-b
 een-exposed-to-domestic-violence-2026-02-05/
SUMMARY:Online | Connect: Supporting Children Who Have Been Exposed to Dome
 stic Violence
DESCRIPTION:Instructors: Heidi Blue\, MSW &amp\; Jeanne Schwertfeger\, Reso
 urce/Adoptive Parent\n\nDescription: In order to respond to the overwhelmi
 ng issues associated with domestic violence\, resource parents need to und
 erstand these issues and know how to identify them as well as assess and p
 rovide treatment to children and youth affected by domestic violence. The 
 dynamics of domestic violence\, the impact of exposure to domestic violenc
 e on children\, and strategies for supporting children who have been expos
 ed to DV will be discussed in this very important class.\n***Please Note:
  This class will be facilitated on the Zoom platform.\nInternet access an
 d access to a computer/laptop/tablet/smartphone is required to attend.\nWe
  kindly request that participants avoid using distracting virtual backgrou
 nds. For privacy\, we recommend using the blur feature instead.\nYou canno
 t take this class in a vehicle.\nThe Zoom link to attend this class will b
 e provided via email.\nPlease follow the link below for a brief tutorial o
 n how to sign up for a free Zoom account.\nZoom User Guide
ATTACH;FMTTYPE=image/jpeg:https://fakce.org/wp-content/uploads/2019/01/tee
 n-and-parent.jpg
CATEGORIES:Classes,Online Classes,Specialty Classes
LOCATION:Zoom\, 0000 Zoom \, San Diego\, United States
X-APPLE-STRUCTURED-LOCATION;VALUE=URI;X-ADDRESS=0000 Zoom \, San Diego\, Un
 ited States;X-APPLE-RADIUS=100;X-TITLE=Zoom:geo:0,0
END:VEVENT
BEGIN:VTIMEZONE
TZID:America/Los_Angeles
X-LIC-LOCATION:America/Los_Angeles
BEGIN:STANDARD
DTSTART:20251102T010000
TZOFFSETFROM:-0700
TZOFFSETTO:-0800
TZNAME:PST
END:STANDARD
END:VTIMEZONE
END:VCALENDAR