BEGIN:VCALENDAR
VERSION:2.0
PRODID:-//wp-events-plugin.com//7.2.3.1//EN
TZID:America/Los_Angeles
X-WR-TIMEZONE:America/Los_Angeles
BEGIN:VEVENT
UID:14773@fakce.org
DTSTART;TZID=America/Los_Angeles:20221011T180000
DTEND;TZID=America/Los_Angeles:20221011T210000
DTSTAMP:20220818T182208Z
URL:https://fakce.org/events/online-connect-supporting-children-who-have-b
 een-exposed-to-domestic-violence-2022-10-11/
SUMMARY:Online | Connect: Supporting Children Who Have Been Exposed to  Dom
 estic Violence
DESCRIPTION:In order to respond to the overwhelming issues associated with
  domestic violence\, resource parents need to understand these issues and
  know how to identify them as well as assess and provide treatment to chi
 ldren and youth affected by domestic violence. The dynamics of domestic v
 iolence\, the impact of exposure to domestic violence on children\, and s
 trategies for supporting children who have been exposed to DV will be dis
 cussed in this very important class.\nRegistration will close on Tuesday\
 , October 11\, 2021\, at 7 am\n***Please Note: This class will be facilita
 ted on the online platform called Zoom. Internet access and access to a co
 mputer/laptop/tablet/smartphone is required to attend.\nThe link to attend
  this class will be provided at registration.\nPlease follow the link belo
 w for a brief tutorial on how to sign up for a free Zoom account.\nZoom Us
 er Guide
ATTACH;FMTTYPE=image/jpeg:https://fakce.org/wp-content/uploads/2016/08/o-K
 IDS-READING-facebook.jpg
CATEGORIES:Classes,Online Classes,Specialty Classes
LOCATION:Zoom\, 0000 Zoom \, San Diego\, United States
X-APPLE-STRUCTURED-LOCATION;VALUE=URI;X-ADDRESS=0000 Zoom \, San Diego\, Un
 ited States;X-APPLE-RADIUS=100;X-TITLE=Zoom:geo:0,0
END:VEVENT
BEGIN:VTIMEZONE
TZID:America/Los_Angeles
X-LIC-LOCATION:America/Los_Angeles
BEGIN:DAYLIGHT
DTSTART:20220313T030000
TZOFFSETFROM:-0800
TZOFFSETTO:-0700
TZNAME:PDT
END:DAYLIGHT
END:VTIMEZONE
END:VCALENDAR