BEGIN:VCALENDAR
VERSION:2.0
PRODID:-//wp-events-plugin.com//7.2.3.1//EN
TZID:America/Los_Angeles
X-WR-TIMEZONE:America/Los_Angeles
BEGIN:VEVENT
UID:17671@fakce.org
DTSTART;TZID=America/Los_Angeles:20250327T180000
DTEND;TZID=America/Los_Angeles:20250327T210000
DTSTAMP:20250214T044842Z
URL:https://fakce.org/events/online-commercial-sexual-exploitation-of-chil
 dren-csec-2025-03-27/
SUMMARY:Online | Commercial Sexual Exploitation of Children (CSEC)
DESCRIPTION:Instructor: Amanda Kruse\, LCSW\n\nDescription: Foster care is 
 a pipeline for the Commercial and Sexual Exploitation of Children. In San 
 Diego County alone\, it generates over $800 million each year! This new su
 rvivor-informed training is specifically designed for foster parents\, rel
 ative caregivers\, and group home staﬀ as a first step in combating the 
 commercial sexual exploitation of children in California. We are working t
 o raise awareness of the crisis at hand and increase your ability to ident
 ify commercially sexually exploited children.\n\n&nbsp\;\n***Please Note: 
 This class will be facilitated on the Zoom platform.\nInternet access and 
 access to a computer/laptop/tablet/smartphone is required to attend.\nWe k
 indly request that participants avoid using distracting virtual background
 s. For privacy\, we recommend using the blur feature instead.\nYou cannot 
 take this class in a vehicle.\nThe Zoom link to attend this class will be 
 provided via email.\nPlease follow the link below for a brief tutorial on 
 how to sign up for a free Zoom account.\nZoom User Guide
ATTACH;FMTTYPE=image/jpeg:https://fakce.org/wp-content/uploads/2016/03/leg
 s-407196_1280.jpg
CATEGORIES:Classes,Online Classes,Specialty Classes
LOCATION:Zoom\, 0000 Zoom \, San Diego\, United States
X-APPLE-STRUCTURED-LOCATION;VALUE=URI;X-ADDRESS=0000 Zoom \, San Diego\, Un
 ited States;X-APPLE-RADIUS=100;X-TITLE=Zoom:geo:0,0
END:VEVENT
BEGIN:VTIMEZONE
TZID:America/Los_Angeles
X-LIC-LOCATION:America/Los_Angeles
BEGIN:DAYLIGHT
DTSTART:20250309T030000
TZOFFSETFROM:-0800
TZOFFSETTO:-0700
TZNAME:PDT
END:DAYLIGHT
END:VTIMEZONE
END:VCALENDAR