BEGIN:VCALENDAR
VERSION:2.0
PRODID:-//wp-events-plugin.com//7.2.3.1//EN
TZID:America/Los_Angeles
X-WR-TIMEZONE:America/Los_Angeles
BEGIN:VEVENT
UID:17361@fakce.org
DTSTART;TZID=America/Los_Angeles:20250107T180000
DTEND;TZID=America/Los_Angeles:20250107T210000
DTSTAMP:20241217T235632Z
URL:https://fakce.org/events/online-commercial-sexual-exploitation-of-chil
 dren-csec-2025-01-07/
SUMMARY:Online | Commercial Sexual Exploitation of Children (CSEC)
DESCRIPTION:Instructor: Charisma De Los Reyes\n\nFoster care is a pipeline 
 for the Commercial and Sexual Exploitation of Children. In San Diego Count
 y alone\, it generates over $800 million each year! This new survivor-info
 rmed training is specifically designed for foster parents\, relative careg
 ivers\, and group home staﬀ as a first step in combating the commercial 
 sexual exploitation of children in California. We are working to raise awa
 reness of the crisis at hand and increase your ability to identify commerc
 ially sexually exploited children.\n\n&nbsp\;\nRegistration will close on 
 Tuesday\, January 7\, 2025 at 7 am \n&nbsp\;\n***Please Note: This class 
 will be facilitated on the Zoom platform.\nInternet access and access to a
  computer/laptop/tablet/smartphone is required to attend.\nWe kindly reque
 st that participants avoid using distracting virtual backgrounds. For priv
 acy\, we recommend using the blur feature instead.\nYou cannot take this c
 lass in a vehicle.\nThe Zoom link to attend this class will be provided vi
 a email.\nPlease follow the link below for a brief tutorial on how to sign
  up for a free Zoom account.\nZoom User Guide
ATTACH;FMTTYPE=image/jpeg:https://fakce.org/wp-content/uploads/2016/03/leg
 s-407196_1280.jpg
CATEGORIES:Classes,Online Classes,Specialty Classes
LOCATION:Zoom\, 0000 Zoom \, San Diego\, United States
X-APPLE-STRUCTURED-LOCATION;VALUE=URI;X-ADDRESS=0000 Zoom \, San Diego\, Un
 ited States;X-APPLE-RADIUS=100;X-TITLE=Zoom:geo:0,0
END:VEVENT
BEGIN:VTIMEZONE
TZID:America/Los_Angeles
X-LIC-LOCATION:America/Los_Angeles
BEGIN:STANDARD
DTSTART:20241103T010000
TZOFFSETFROM:-0700
TZOFFSETTO:-0800
TZNAME:PST
END:STANDARD
END:VTIMEZONE
END:VCALENDAR