BEGIN:VCALENDAR
VERSION:2.0
PRODID:-//wp-events-plugin.com//7.2.3.1//EN
TZID:America/Los_Angeles
X-WR-TIMEZONE:America/Los_Angeles
BEGIN:VEVENT
UID:14107@fakce.org
DTSTART;TZID=America/Los_Angeles:20220216T180000
DTEND;TZID=America/Los_Angeles:20220216T210000
DTSTAMP:20211214T200445Z
URL:https://fakce.org/events/online-commercial-sexual-exploitation-of-chil
 dren-csec-2022-02-16/
SUMMARY:Online | Commercial Sexual Exploitation of Children (CSEC)
DESCRIPTION: The majority of trafficking victims in the United States are 
 our own American children. The primary way they are exploited is sex traf
 ficking. The official term is Commercial Sexual Exploitation of Children 
 or CSEC.\n\nThe goal of this training is to equip care providers with the 
 knowledge they need to be aware of and how to identify children in their 
 care who may be at risk of or already have fallen victim to this atrocity
 .\nRegistration will close on Wednesday\, February 16\, 2022 at 7am\n***Pl
 ease Note: This class will be facilitated on the online platform called Zo
 om. Internet access and access to a computer/laptop/tablet/smartphone is r
 equired to attend.\nThe link to attend this class will be provided at regi
 stration.\nPlease follow the link below for a brief tutorial on how to sig
 n up for a free Zoom account.\nZoom User Guide
ATTACH;FMTTYPE=image/jpeg:https://fakce.org/wp-content/uploads/2016/07/Pic
 ture1.jpg
CATEGORIES:Classes,Online Classes,Specialty Classes
LOCATION:Zoom\, 0000 Zoom \, San Diego\, United States
X-APPLE-STRUCTURED-LOCATION;VALUE=URI;X-ADDRESS=0000 Zoom \, San Diego\, Un
 ited States;X-APPLE-RADIUS=100;X-TITLE=Zoom:geo:0,0
END:VEVENT
BEGIN:VTIMEZONE
TZID:America/Los_Angeles
X-LIC-LOCATION:America/Los_Angeles
BEGIN:STANDARD
DTSTART:20211107T010000
TZOFFSETFROM:-0700
TZOFFSETTO:-0800
TZNAME:PST
END:STANDARD
END:VTIMEZONE
END:VCALENDAR