BEGIN:VCALENDAR
VERSION:2.0
PRODID:-//wp-events-plugin.com//7.2.3.1//EN
TZID:America/Los_Angeles
X-WR-TIMEZONE:America/Los_Angeles
BEGIN:VEVENT
UID:15447@fakce.org
DTSTART;TZID=America/Los_Angeles:20230109T180000
DTEND;TZID=America/Los_Angeles:20230109T210000
DTSTAMP:20221207T214312Z
URL:https://fakce.org/events/online-commercial-sexual-exploitation-of-chil
 dren-2023-01-09/
SUMMARY:Online | Commercial Sexual Exploitation of Children
DESCRIPTION:Foster care is a pipeline for the Commercial and Sexual Exploit
 ation of Children. In San Diego County alone\, it generates over $800 mill
 ion each year! This new survivor informed training is specifically designe
 d for resource parents\, relative caregivers\, and group home staff as a f
 irst step in combating the commercial sexual exploitation of children in C
 alifornia. We are working to raise awareness to the crisis at hand and inc
 reasing your ability to identify commercially sexually exploited children.
 \n\nInstructor: Amanda Stephens\, LCSW\nRegistration will close on Monday\
 , January 9\, 2023 at 7 am \n***Please Note: This class will be facilita
 ted on the online platform called Zoom. Internet access and access to a co
 mputer/laptop/tablet/smartphone is required to attend.\nThe link to attend
  this class will be provided at registration.\nPlease follow the link belo
 w for a brief tutorial on how to sign up for a free Zoom account.\nZoom Us
 er Guide
ATTACH;FMTTYPE=image/jpeg:https://fakce.org/wp-content/uploads/2015/03/KLI
 0008E.jpg
CATEGORIES:Classes,Specialty Classes
LOCATION:Zoom\, 0000 Zoom \, San Diego\, United States
X-APPLE-STRUCTURED-LOCATION;VALUE=URI;X-ADDRESS=0000 Zoom \, San Diego\, Un
 ited States;X-APPLE-RADIUS=100;X-TITLE=Zoom:geo:0,0
END:VEVENT
BEGIN:VTIMEZONE
TZID:America/Los_Angeles
X-LIC-LOCATION:America/Los_Angeles
BEGIN:STANDARD
DTSTART:20221106T010000
TZOFFSETFROM:-0700
TZOFFSETTO:-0800
TZNAME:PST
END:STANDARD
END:VTIMEZONE
END:VCALENDAR