BEGIN:VCALENDAR
VERSION:2.0
PRODID:-//wp-events-plugin.com//7.2.3.1//EN
TZID:America/Los_Angeles
X-WR-TIMEZONE:America/Los_Angeles
BEGIN:VEVENT
UID:15729@fakce.org
DTSTART;TZID=America/Los_Angeles:20230613T180000
DTEND;TZID=America/Los_Angeles:20230613T210000
DTSTAMP:20230425T215212Z
URL:https://fakce.org/events/online-coming-full-circle-2023-06-13/
SUMMARY:Online | Coming Full Circle
DESCRIPTION:In this class\, we will discuss identity\, the complexities of 
 transracial adoption\, the benefits and concerns of keeping connections an
 d how adoptive parents can support their children in discovering their sto
 ry.\nRegistration will close on Tuesday\, June 13\, 2023 at 7 am \n***Ple
 ase Note: This class will be facilitated on the online platform called Zoo
 m. Internet access and access to a computer/laptop/tablet/smartphone is re
 quired to attend.\nThe link to attend this class will be provided at regis
 tration.\nPlease follow the link below for a brief tutorial on how to sign
  up for a free Zoom account.\nZoom User Guide 
ATTACH;FMTTYPE=image/jpeg:https://fakce.org/wp-content/uploads/2019/06/Pic
 ture1.png
CATEGORIES:Adoption Classes,Classes,Online Classes
LOCATION:Zoom\, 0000 Zoom \, San Diego\, United States
X-APPLE-STRUCTURED-LOCATION;VALUE=URI;X-ADDRESS=0000 Zoom \, San Diego\, Un
 ited States;X-APPLE-RADIUS=100;X-TITLE=Zoom:geo:0,0
END:VEVENT
BEGIN:VTIMEZONE
TZID:America/Los_Angeles
X-LIC-LOCATION:America/Los_Angeles
BEGIN:DAYLIGHT
DTSTART:20230312T030000
TZOFFSETFROM:-0800
TZOFFSETTO:-0700
TZNAME:PDT
END:DAYLIGHT
END:VTIMEZONE
END:VCALENDAR