BEGIN:VCALENDAR
VERSION:2.0
PRODID:-//wp-events-plugin.com//7.2.3.1//EN
TZID:America/Los_Angeles
X-WR-TIMEZONE:America/Los_Angeles
BEGIN:VEVENT
UID:14495@fakce.org
DTSTART;TZID=America/Los_Angeles:20221109T180000
DTEND;TZID=America/Los_Angeles:20221109T210000
DTSTAMP:20220516T221828Z
URL:https://fakce.org/events/online-coming-full-circle-2022-11-09/
SUMMARY:Online | Coming Full Circle
DESCRIPTION:Come watch the documentary\, “Closure” about Angela Tucker\
 , an adult adoptee who searches to find her birth family\, the feelings of
  excitement and disappointment in the searching\, and how she finds hersel
 f in the process.\n\nIn this class\, we will discuss identity\, the comple
 xities of transracial adoption\, the benefits and concerns of keeping conn
 ections\, and how adoptive parents can support their children in discoveri
 ng their story.\nRegistration will close on Wednesday\, November 9\, 2022 
 at 7 am \n***Please Note: This class will be facilitated on the online pl
 atform called Zoom. Internet access and access to a computer/laptop/tablet
 /smartphone is required to attend.\nThe link to attend this class will be 
 provided at registration.\nPlease follow the link below for a brief tutori
 al on how to sign up for a free Zoom account.\nZoom User Guide
ATTACH;FMTTYPE=image/jpeg:https://fakce.org/wp-content/uploads/2016/03/fam
 ily-1003817_1280.jpg
CATEGORIES:Adoption Classes,Classes,Online Classes
LOCATION:Zoom\, 0000 Zoom \, San Diego\, United States
X-APPLE-STRUCTURED-LOCATION;VALUE=URI;X-ADDRESS=0000 Zoom \, San Diego\, Un
 ited States;X-APPLE-RADIUS=100;X-TITLE=Zoom:geo:0,0
END:VEVENT
BEGIN:VTIMEZONE
TZID:America/Los_Angeles
X-LIC-LOCATION:America/Los_Angeles
BEGIN:STANDARD
DTSTART:20221106T010000
TZOFFSETFROM:-0700
TZOFFSETTO:-0800
TZNAME:PST
END:STANDARD
END:VTIMEZONE
END:VCALENDAR