BEGIN:VCALENDAR
VERSION:2.0
PRODID:-//wp-events-plugin.com//7.2.3.1//EN
TZID:America/Los_Angeles
X-WR-TIMEZONE:America/Los_Angeles
BEGIN:VEVENT
UID:14222@fakce.org
DTSTART;TZID=America/Los_Angeles:20220420T180000
DTEND;TZID=America/Los_Angeles:20220420T210000
DTSTAMP:20220211T165512Z
URL:https://fakce.org/events/online-coming-full-circle-2022-04-20/
SUMMARY:Online| Coming Full Circle
DESCRIPTION:Come watch the documentary\, “Closure” about Angela Tucker\
 , an adult adoptee who searches to find her birth family\, the feelings of
  excitement and disappointments in the searching and how she finds herself
  in the process.\n\nIn this class\, we will discuss identity\, the complex
 ities of transracial adoption\, the benefits and concerns of keeping conne
 ctions and how adoptive parents can support their children in discovering 
 their story.\nRegistration will close on Wednesday\, April 20\, 2022 at 7 
 am \n***Please Note: This class will be facilitated on the online platfor
 m called Zoom. Internet access and access to a computer/laptop/tablet/smar
 tphone is required to attend.\nThe link to attend this class will be provi
 ded at registration.\nPlease follow the link below for a brief tutorial on
  how to sign up for a free Zoom account.\nZoom User Guide 
ATTACH;FMTTYPE=image/jpeg:https://fakce.org/wp-content/uploads/2020/02/Clo
 sure-Film.jpg
CATEGORIES:Adoption Classes,Classes,Online Classes
LOCATION:Zoom\, 0000 Zoom \, San Diego\, United States
X-APPLE-STRUCTURED-LOCATION;VALUE=URI;X-ADDRESS=0000 Zoom \, San Diego\, Un
 ited States;X-APPLE-RADIUS=100;X-TITLE=Zoom:geo:0,0
END:VEVENT
BEGIN:VTIMEZONE
TZID:America/Los_Angeles
X-LIC-LOCATION:America/Los_Angeles
BEGIN:DAYLIGHT
DTSTART:20220313T030000
TZOFFSETFROM:-0800
TZOFFSETTO:-0700
TZNAME:PDT
END:DAYLIGHT
END:VTIMEZONE
END:VCALENDAR