BEGIN:VCALENDAR
VERSION:2.0
PRODID:-//wp-events-plugin.com//7.2.3.1//EN
TZID:America/Los_Angeles
X-WR-TIMEZONE:America/Los_Angeles
BEGIN:VEVENT
UID:17946@fakce.org
DTSTART;TZID=America/Los_Angeles:20251008T100000
DTEND;TZID=America/Los_Angeles:20251008T120000
DTSTAMP:20250829T230327Z
URL:https://fakce.org/events/online-college-pathways-for-foster-youth-what
 -every-caregiver-should-know-2025-10-08/
SUMMARY:Online | College Pathways for Foster Youth: What Every Caregiver Sh
 ould Know
DESCRIPTION:Presented in partnership with the NextUp Program at Cuyamaca Co
 llege\n&nbsp\;\n\n \n \nInstructor: Zefora Ortiz\, NextUp Program Special
 ist\, and Ava Jill counselor for the EOPS &amp\; NextUp programs \nDescri
 ption: This workshop\, led by the NextUp Program at Cuyamaca College and G
 rossmont NextUp\, will help caregivers understand how to support foster yo
 uth on their journey to and through college. Topics include ﬁnancial aid
 \, campus support services\, and tips for navigating common challenges. Ca
 regivers will leave with tools and resources to help youth pursue higher e
 ducation with conﬁdence.\n&nbsp\;\n\n&nbsp\;\n***Please Note: This class
  will be facilitated on the Zoom platform.\nInternet access and access to 
 a computer/laptop/tablet/smartphone is required to attend.\nWe kindly requ
 est that participants avoid using distracting virtual backgrounds. For pri
 vacy\, we recommend using the blur feature instead.\nYou cannot take this 
 class in a vehicle.\nThe Zoom link to attend this class will be provided v
 ia email.\nPlease follow the link below for a brief tutorial on how to sig
 n up for a free Zoom account.\nZoom User Guide
ATTACH;FMTTYPE=image/jpeg:https://fakce.org/wp-content/uploads/2023/04/ist
 ockphoto-1313553003-612x612-1.jpg
CATEGORIES:Classes,Online Classes,Specialty Classes
LOCATION:Zoom\, 0000 Zoom \, San Diego\, United States
X-APPLE-STRUCTURED-LOCATION;VALUE=URI;X-ADDRESS=0000 Zoom \, San Diego\, Un
 ited States;X-APPLE-RADIUS=100;X-TITLE=Zoom:geo:0,0
END:VEVENT
BEGIN:VTIMEZONE
TZID:America/Los_Angeles
X-LIC-LOCATION:America/Los_Angeles
BEGIN:DAYLIGHT
DTSTART:20250309T030000
TZOFFSETFROM:-0800
TZOFFSETTO:-0700
TZNAME:PDT
END:DAYLIGHT
END:VTIMEZONE
END:VCALENDAR