BEGIN:VCALENDAR
VERSION:2.0
PRODID:-//wp-events-plugin.com//7.2.3.1//EN
TZID:America/Los_Angeles
X-WR-TIMEZONE:America/Los_Angeles
BEGIN:VEVENT
UID:17909@fakce.org
DTSTART;TZID=America/Los_Angeles:20250908T100000
DTEND;TZID=America/Los_Angeles:20250908T120000
DTSTAMP:20250903T234626Z
URL:https://fakce.org/events/online-college-pathways-for-foster-youth-what
 -every-caregiver-should-know-2025-09-08/
SUMMARY:Online | College Pathways for Foster Youth: What Every Caregiver Sh
 ould Know
DESCRIPTION:Presented in partnership with the NextUp Program at Cuyamaca Co
 llege\n&nbsp\;\n\n \n \nInstructor: Zefora Ortiz\, NextUp Program Special
 ist\, and Brian Woolsey- NextUp Grossmont \nDescription: This workshop\, 
 led by the NextUp Program at Cuyamaca College\, will help caregivers under
 stand how to support foster youth on their journey to and through college.
  Topics include ﬁnancial aid\, campus support services\, and tips for na
 vigating common challenges. Caregivers will leave with tools and resources
  to help youth pursue higher education with conﬁdence.\n&nbsp\;\n\n&nbsp
 \;\n***Please Note: This class will be facilitated on the Zoom platform.\n
 Internet access and access to a computer/laptop/tablet/smartphone is requi
 red to attend.\nWe kindly request that participants avoid using distractin
 g virtual backgrounds. For privacy\, we recommend using the blur feature i
 nstead.\nYou cannot take this class in a vehicle.\nThe Zoom link to attend
  this class will be provided via email.\nPlease follow the link below for 
 a brief tutorial on how to sign up for a free Zoom account.\nZoom User Gui
 de
ATTACH;FMTTYPE=image/jpeg:https://fakce.org/wp-content/uploads/2023/04/ist
 ockphoto-1313553003-612x612-1.jpg
CATEGORIES:Classes,Online Classes,Specialty Classes
LOCATION:Zoom\, 0000 Zoom \, San Diego\, United States
X-APPLE-STRUCTURED-LOCATION;VALUE=URI;X-ADDRESS=0000 Zoom \, San Diego\, Un
 ited States;X-APPLE-RADIUS=100;X-TITLE=Zoom:geo:0,0
END:VEVENT
BEGIN:VTIMEZONE
TZID:America/Los_Angeles
X-LIC-LOCATION:America/Los_Angeles
BEGIN:DAYLIGHT
DTSTART:20250309T030000
TZOFFSETFROM:-0800
TZOFFSETTO:-0700
TZNAME:PDT
END:DAYLIGHT
END:VTIMEZONE
END:VCALENDAR