BEGIN:VCALENDAR
VERSION:2.0
PRODID:-//wp-events-plugin.com//7.2.3.1//EN
TZID:America/Los_Angeles
X-WR-TIMEZONE:America/Los_Angeles
BEGIN:VEVENT
UID:18030@fakce.org
DTSTART;TZID=America/Los_Angeles:20251112T093000
DTEND;TZID=America/Los_Angeles:20251112T123000
DTSTAMP:20251003T225850Z
URL:https://fakce.org/events/online-childhood-trauma-informed-holidays-202
 5-11-12/
SUMMARY:Online | Childhood Trauma Informed Holidays
DESCRIPTION:Guest Instructor:  Sue Badeau\, National Trainer &amp\; Adoptiv
 e Parent\nDescription: While the holiday season is known as “the most wo
 nderful time of the year\,” it can also be a tough time for children and
  young people with a history of trauma\, like the kids in our care from ch
 ild protective services.\nAt a time when the focus is on families coming t
 ogether\, being separated from biological parents or siblings can initiate
  strong feelings of loneliness\, anxiety\, sadness or fear. Even when chil
 dren are happy to be with their foster families and away from an abusive h
 ome\, experiencing the holidays in a new household with unfamiliar traditi
 ons can surface up all kinds of complicated feelings. Join us to learn tra
 uma informed strategies you can use during the holiday season to better na
 vigate the experiences youth may feel and what is needed to best support t
 hem.\n\n\n&nbsp\;\n\n&nbsp\;\n***Please Note: This class will be facilitat
 ed on the Zoom platform.\nInternet access and access to a computer/laptop/
 tablet/smartphone is required to attend.\nWe kindly request that participa
 nts avoid using distracting virtual backgrounds. For privacy\, we recommen
 d using the blur feature instead.\nYou cannot take this class in a vehicle
 .\nThe Zoom link to attend this class will be provided via email.\nPlease 
 follow the link below for a brief tutorial on how to sign up for a free Zo
 om account.\nZoom User Guide
ATTACH;FMTTYPE=image/jpeg:https://fakce.org/wp-content/uploads/2021/05/His
 panic-Family.jpg
CATEGORIES:Classes,Online Classes,Specialty Classes
LOCATION:Zoom\, 0000 Zoom \, San Diego\, United States
X-APPLE-STRUCTURED-LOCATION;VALUE=URI;X-ADDRESS=0000 Zoom \, San Diego\, Un
 ited States;X-APPLE-RADIUS=100;X-TITLE=Zoom:geo:0,0
END:VEVENT
BEGIN:VTIMEZONE
TZID:America/Los_Angeles
X-LIC-LOCATION:America/Los_Angeles
BEGIN:STANDARD
DTSTART:20251102T010000
TZOFFSETFROM:-0700
TZOFFSETTO:-0800
TZNAME:PST
END:STANDARD
END:VTIMEZONE
END:VCALENDAR