BEGIN:VCALENDAR
VERSION:2.0
PRODID:-//wp-events-plugin.com//7.2.3.1//EN
TZID:America/Los_Angeles
X-WR-TIMEZONE:America/Los_Angeles
BEGIN:VEVENT
UID:17938@fakce.org
DTSTART;TZID=America/Los_Angeles:20251001T093000
DTEND;TZID=America/Los_Angeles:20251001T123000
DTSTAMP:20250922T181015Z
URL:https://fakce.org/events/online-childhood-sexual-trauma-tools-for-hope
 -and-healing-part-1-2025-10-01/
SUMMARY:Online | Childhood Sexual Trauma: Tools for Hope and Healing - Part
  1
DESCRIPTION:Instructor: Allison Davis Maxon\, LMFT\nAbout: Allison Davis Ma
 xon is a nationally recognized expert in Complex Developmental Trauma and 
 children’s mental health specializing in Attachment and Permanency/Adopt
 ion. She is a mother\, a trauma therapist and an author/lecturer. Join All
 ison for a journey into the emotional demands and challenges parents exper
 ience as they attach and parent children and teens with core losses and de
 velopmental trauma. The series will use The Seven Core Issues Workbook for
  Parents of Traumatized Children and Teens: A Guide to Help You Explore Fe
 elings and Overcome Emotional Challenges in Your Family.\n\n&nbsp\;\nChild
 ren who have experienced sexual abuse or exploitation carry deep relationa
 l wounds that can impact their sense of safety\, trust\, and identity. Thi
 s powerful two-part training will help caregivers and professionals unders
 tand the complex psychological\, emotional\, and neurobiological effects o
 f these traumas—and how to support healing.\nLearn how trauma impacts th
 e developing brain and body\, how to recognize signs of distress and prema
 ture sexualization\, and how to respond using developmentally appropriate\
 , strength-based tools that support safety\, connection\, and growth.\nToo
 ls You’ll Walk Away With:\n\n\n 	Recognize behavioral and emotional sign
 s of sexual abuse and exploitation\n 	Understand how these experiences aff
 ect a child’s self-worth\, relationships\, and development\n 	Explore tr
 auma responses such as Fight/Flight/Freeze\, and how to support healing us
 ing brain-based strategies\n 	Learn practical approaches to foster felt sa
 fety\, co-regulation\, and narrative healing\n 	Gain tools to support chil
 dren with sexually reactive or self-harming behaviors\n\nThis two part tra
 ining offers a compassionate and clinical framework to help you become a s
 afe\, grounded adult in a child’s healing journey.\nNote: While you are 
 welcome to register for each individual session\, if you register for part
  1 you will automatically be enrolled in both parts. This option is recomm
 ended for those planning to attend the full series.\nUpcoming Session: \n
 \n\n 	Wednesday\, October 15\, 2025 - Click Here to Register\n\n¿Prefiere
  participar en español?\nEste taller contará con interpretación simult
 ánea en vivo al español.Haga clic aquí para registrarse y asegurar su l
 ugar\n&nbsp\;\n***Please Note: This class will be facilitated on the Zoom 
 platform.\nInternet access and access to a computer/laptop/tablet/smartpho
 ne is required to attend.\nWe kindly request that participants avoid using
  distracting virtual backgrounds. For privacy\, we recommend using the blu
 r feature instead.\nYou cannot take this class in a vehicle.\nThe Zoom lin
 k to attend this class will be provided via email.\nPlease follow the link
  below for a brief tutorial on how to sign up for a free Zoom account.\nZo
 om User Guide
ATTACH;FMTTYPE=image/jpeg:https://fakce.org/wp-content/uploads/2024/11/ima
 ge-dec-2022.jpeg
CATEGORIES:Classes,Online Classes,Specialty Classes
LOCATION:Zoom\, 0000 Zoom \, San Diego\, United States
X-APPLE-STRUCTURED-LOCATION;VALUE=URI;X-ADDRESS=0000 Zoom \, San Diego\, Un
 ited States;X-APPLE-RADIUS=100;X-TITLE=Zoom:geo:0,0
END:VEVENT
BEGIN:VTIMEZONE
TZID:America/Los_Angeles
X-LIC-LOCATION:America/Los_Angeles
BEGIN:DAYLIGHT
DTSTART:20250309T030000
TZOFFSETFROM:-0800
TZOFFSETTO:-0700
TZNAME:PDT
END:DAYLIGHT
END:VTIMEZONE
END:VCALENDAR