BEGIN:VCALENDAR
VERSION:2.0
PRODID:-//wp-events-plugin.com//7.2.3.1//EN
TZID:America/Los_Angeles
X-WR-TIMEZONE:America/Los_Angeles
BEGIN:VEVENT
UID:18065@fakce.org
DTSTART;TZID=America/Los_Angeles:20251125T180000
DTEND;TZID=America/Los_Angeles:20251125T200000
DTSTAMP:20251017T174405Z
URL:https://fakce.org/events/online-childhood-obesity-prevention-2025-11-2
 5/
SUMMARY:Online | Childhood Obesity Prevention
DESCRIPTION:Instructors: Representatives from Scripps Mercy Hospital’s We
 ll‐Being Center\nDescription: Learn how foster families can support heal
 thy eating\, physical activity\, and body conﬁdence. This class addresse
 s the root causes of childhood. obesity and provides tips for creating a b
 alanced\, health-conscious home environment—without stigma.\n\n***Please
  Note: This class will be facilitated on the Zoom platform.\nInternet acce
 ss and access to a computer/laptop/tablet/smartphone is required to attend
 .\nWe kindly request that participants avoid using distracting virtual bac
 kgrounds. For privacy\, we recommend using the blur feature instead.\nYou 
 cannot take this class in a vehicle.\nThe Zoom link to attend this class w
 ill be provided via email.\nPlease follow the link below for a brief tutor
 ial on how to sign up for a free Zoom account.\nZoom User Guide
ATTACH;FMTTYPE=image/jpeg:https://fakce.org/wp-content/uploads/2015/04/pic
 27.jpg
CATEGORIES:Classes,Online Classes,Specialty Classes
LOCATION:Zoom\, 0000 Zoom \, San Diego\, United States
X-APPLE-STRUCTURED-LOCATION;VALUE=URI;X-ADDRESS=0000 Zoom \, San Diego\, Un
 ited States;X-APPLE-RADIUS=100;X-TITLE=Zoom:geo:0,0
END:VEVENT
BEGIN:VTIMEZONE
TZID:America/Los_Angeles
X-LIC-LOCATION:America/Los_Angeles
BEGIN:STANDARD
DTSTART:20251102T010000
TZOFFSETFROM:-0700
TZOFFSETTO:-0800
TZNAME:PST
END:STANDARD
END:VTIMEZONE
END:VCALENDAR