BEGIN:VCALENDAR
VERSION:2.0
PRODID:-//wp-events-plugin.com//7.2.3.1//EN
TZID:America/Los_Angeles
X-WR-TIMEZONE:America/Los_Angeles
BEGIN:VEVENT
UID:18438@fakce.org
DTSTART;TZID=America/Los_Angeles:20260124T093000
DTEND;TZID=America/Los_Angeles:20260124T123000
DTSTAMP:20260115T205606Z
URL:https://fakce.org/events/online-child-centered-transitions-2026-01-24/
SUMMARY:Online | Child Centered Transitions
DESCRIPTION:Instructors: Diana Macis\, MSW &amp\; MaryAnn Paschal\, Resourc
 e/Adoptive Parent\n\nDescription: Transitions are an unavoidable part of t
 he foster care experience. Explore strategies for minimizing the trauma an
 d creating successful transitions for infants and children. This training 
 will help participants understand the impact a move has on children\, deve
 lop strategies to create good transition plans to lessen the trauma experi
 ences\, and recognize the impact of loss. This training is designed for re
 source parents as well as social workers.\n***Please Note: This class will
  be facilitated on the online platform called Zoom. Internet access and ac
 cess to a computer/laptop/tablet/smartphone is required to attend.\nThe li
 nk to attend this class will be provided via email.\nPlease follow the lin
 k below for a brief tutorial on how to sign up for a free Zoom account.\nZ
 oom User Guide
ATTACH;FMTTYPE=image/jpeg:https://fakce.org/wp-content/uploads/2015/04/thR
 8L5DXB82.jpg
CATEGORIES:Classes,Online Classes,Specialty Classes
END:VEVENT
BEGIN:VTIMEZONE
TZID:America/Los_Angeles
X-LIC-LOCATION:America/Los_Angeles
BEGIN:STANDARD
DTSTART:20251102T010000
TZOFFSETFROM:-0700
TZOFFSETTO:-0800
TZNAME:PST
END:STANDARD
END:VTIMEZONE
END:VCALENDAR