BEGIN:VCALENDAR
VERSION:2.0
PRODID:-//wp-events-plugin.com//7.2.3.1//EN
TZID:America/Los_Angeles
X-WR-TIMEZONE:America/Los_Angeles
BEGIN:VEVENT
UID:15968@fakce.org
DTSTART;TZID=America/Los_Angeles:20231003T100000
DTEND;TZID=America/Los_Angeles:20231003T120000
DTSTAMP:20230911T234914Z
URL:https://fakce.org/events/online-child-centered-transitions-2023-10-03/
SUMMARY:Online | Child Centered Transitions
DESCRIPTION:Transitions are an unavoidable part of the foster care experien
 ce. Explore strategies for minimizing the trauma and creating successful t
 ransitions for infants and children. This training will help participants 
 understand the impact a move has on children\, develop strategies to creat
 e good transition plans to lessen the trauma experiences and recognize the
  impact of loss. This training is designed for resource parents as well as
  social workers.\n\n&nbsp\;\nRegistration will close on Monday\, October 2
 \, 2023 at 12pm\n***Please Note: This class will be facilitated on the onl
 ine platform called Zoom. Internet access and access to a computer/laptop/
 tablet/smartphone is required to attend.\nThe link to attend this class wi
 ll be provided via email.\nPlease follow the link below for a brief tutori
 al on how to sign up for a free Zoom account.\nZoom User Guide\n&nbsp\;
ATTACH;FMTTYPE=image/jpeg:https://fakce.org/wp-content/uploads/2015/04/thR
 8L5DXB82.jpg
CATEGORIES:Classes,Online Classes,Specialty Classes
END:VEVENT
BEGIN:VTIMEZONE
TZID:America/Los_Angeles
X-LIC-LOCATION:America/Los_Angeles
BEGIN:DAYLIGHT
DTSTART:20230312T030000
TZOFFSETFROM:-0800
TZOFFSETTO:-0700
TZNAME:PDT
END:DAYLIGHT
END:VTIMEZONE
END:VCALENDAR