BEGIN:VCALENDAR
VERSION:2.0
PRODID:-//wp-events-plugin.com//7.2.3.1//EN
TZID:America/Los_Angeles
X-WR-TIMEZONE:America/Los_Angeles
BEGIN:VEVENT
UID:14757@fakce.org
DTSTART;TZID=America/Los_Angeles:20220930T180000
DTEND;TZID=America/Los_Angeles:20220930T210000
DTSTAMP:20220810T185243Z
URL:https://fakce.org/events/online-building-the-core-skills-youth-need-fo
 r-life-2022-09-30/
SUMMARY:Online | Building the Core Skills Youth Need for Life
DESCRIPTION:To be a present parent\, we need tips and techniques to enhance
  our parent/child relationships. We all need reinforcement and some new id
 eas to stay on track. Sometime we need the words to say\, or examples of h
 ow other families handled similar situations. Most importantly\, we need e
 ncouragement and empowerment. This class will look at all of this and give
  valuable resources to Resource Parents to discipline children in healthy 
 and eﬀective ways.\nRegistration will close on Friday\, September 30\, 2
 022\, at 7 am\n***Please Note: This class will be facilitated on the onlin
 e platform called Zoom. Internet access and access to a computer/laptop/ta
 blet/smartphone is required to attend.\nThe link to attend this class will
  be provided at registration.\nPlease follow the link below for a brief tu
 torial on how to sign up for a free Zoom account.\nZoom User Guide
ATTACH;FMTTYPE=image/jpeg:https://fakce.org/wp-content/uploads/2016/08/o-C
 LASSROOM-facebook.jpg
CATEGORIES:Classes,Online Classes,Specialty Classes
LOCATION:Zoom\, 0000 Zoom \, San Diego\, United States
X-APPLE-STRUCTURED-LOCATION;VALUE=URI;X-ADDRESS=0000 Zoom \, San Diego\, Un
 ited States;X-APPLE-RADIUS=100;X-TITLE=Zoom:geo:0,0
END:VEVENT
BEGIN:VTIMEZONE
TZID:America/Los_Angeles
X-LIC-LOCATION:America/Los_Angeles
BEGIN:DAYLIGHT
DTSTART:20220313T030000
TZOFFSETFROM:-0800
TZOFFSETTO:-0700
TZNAME:PDT
END:DAYLIGHT
END:VTIMEZONE
END:VCALENDAR