BEGIN:VCALENDAR
VERSION:2.0
PRODID:-//wp-events-plugin.com//7.2.3.1//EN
TZID:America/Los_Angeles
X-WR-TIMEZONE:America/Los_Angeles
BEGIN:VEVENT
UID:17214@fakce.org
DTSTART;TZID=America/Los_Angeles:20240917T180000
DTEND;TZID=America/Los_Angeles:20240917T210000
DTSTAMP:20240807T201107Z
URL:https://fakce.org/events/online-building-resilience-and-sustainability
 -in-kinship-placements-2024-09-17/
SUMMARY:Online | Building Resilience and  Sustainability in Kinship Placeme
 nts
DESCRIPTION:Description: This class will explore both the joys and challeng
 es of kinship care and provide participants with strategies to build resil
 ience while caring for their loved ones.\nRegistration will close on Tuesd
 ay\, September 17\, 2024 at 7am\n***Please Note: This class will be facili
 tated on the online platform called Zoom. Internet access and access to a 
 computer/laptop/tablet/smartphone is required to attend.\nThe link to atte
 nd this class will be provided at registration.\nPlease follow the link be
 low for a brief tutorial on how to sign up for a free Zoom account.\nZoom 
 User Guide
ATTACH;FMTTYPE=image/jpeg:https://fakce.org/wp-content/uploads/2021/05/His
 panic-Family.jpg
CATEGORIES:Classes,Online Classes,Specialty Classes
LOCATION:Zoom\, 0000 Zoom \, San Diego\, United States
X-APPLE-STRUCTURED-LOCATION;VALUE=URI;X-ADDRESS=0000 Zoom \, San Diego\, Un
 ited States;X-APPLE-RADIUS=100;X-TITLE=Zoom:geo:0,0
END:VEVENT
BEGIN:VTIMEZONE
TZID:America/Los_Angeles
X-LIC-LOCATION:America/Los_Angeles
BEGIN:DAYLIGHT
DTSTART:20240310T030000
TZOFFSETFROM:-0800
TZOFFSETTO:-0700
TZNAME:PDT
END:DAYLIGHT
END:VTIMEZONE
END:VCALENDAR