BEGIN:VCALENDAR
VERSION:2.0
PRODID:-//wp-events-plugin.com//7.2.3.1//EN
TZID:America/Los_Angeles
X-WR-TIMEZONE:America/Los_Angeles
BEGIN:VEVENT
UID:14110@fakce.org
DTSTART;TZID=America/Los_Angeles:20220218T180000
DTEND;TZID=America/Los_Angeles:20220218T210000
DTSTAMP:20211214T204504Z
URL:https://fakce.org/events/online-brothers-and-sisters-supporting-lifelo
 ng-connections-2022-02-18/
SUMMARY:Online | Brothers and Sisters: Supporting Lifelong Connections
DESCRIPTION:This class will focus on understanding the importance of siblin
 g connections throughout foster care. Participants will learn how to advo
 cate for placement decisions of sibling groups and learn how to support th
 e sibling connection when brothers and sisters are separated. Resource Par
 ents will also discover the beneﬁts of placing siblings together and hav
 e a greater understanding of permanency outcomes when children are placed 
 with their siblings.\nRegistration will close on Friday\, February 18\, 20
 22 at 7am\n***Please Note: This class will be facilitated on the online pl
 atform called Zoom. Internet access and access to a computer/laptop/tablet
 /smartphone is required to attend.\nThe link to attend this class will be 
 provided at registration.\nPlease follow the link below for a brief tutori
 al on how to sign up for a free Zoom account.\nZoom User Guide
ATTACH;FMTTYPE=image/jpeg:https://fakce.org/wp-content/uploads/2016/07/Pic
 ture1.jpg
CATEGORIES:Classes,Online Classes,Specialty Classes
LOCATION:Zoom\, 0000 Zoom \, San Diego\, United States
X-APPLE-STRUCTURED-LOCATION;VALUE=URI;X-ADDRESS=0000 Zoom \, San Diego\, Un
 ited States;X-APPLE-RADIUS=100;X-TITLE=Zoom:geo:0,0
END:VEVENT
BEGIN:VTIMEZONE
TZID:America/Los_Angeles
X-LIC-LOCATION:America/Los_Angeles
BEGIN:STANDARD
DTSTART:20211107T010000
TZOFFSETFROM:-0700
TZOFFSETTO:-0800
TZNAME:PST
END:STANDARD
END:VTIMEZONE
END:VCALENDAR