BEGIN:VCALENDAR
VERSION:2.0
PRODID:-//wp-events-plugin.com//7.2.3.1//EN
TZID:America/Los_Angeles
X-WR-TIMEZONE:America/Los_Angeles
BEGIN:VEVENT
UID:17945@fakce.org
DTSTART;TZID=America/Los_Angeles:20251008T180000
DTEND;TZID=America/Los_Angeles:20251008T210000
DTSTAMP:20250819T102052Z
URL:https://fakce.org/events/online-brainstorm-the-adolescent-brain-part-2
 -2025-10-08/
SUMMARY:Online | Brainstorm: The Adolescent Brain - Part 2
DESCRIPTION:Instructors: Donna Boissiere\, LCSW/Adoptive Parent &amp\; Carr
 ie Collins\, Resource/Adoptive Parent\n\nDescription: Turn one of the mos
 t challenging developmental periods in your children’s lives ‐ the ado
 lescent years ‐ into one of the most rewarding for you and for your yout
 h! This workshop explores how understanding how the brain functions can im
 prove the lives of adolescents\, making their relationships more fulfillin
 g and less lonely and distressing on both sides of the generational divide
 . \n***Please Note: This class will be facilitated on the Zoom platform.\
 nInternet access and access to a computer/laptop/tablet/smartphone is requ
 ired to attend.\nWe kindly request that participants avoid using distracti
 ng virtual backgrounds. For privacy\, we recommend using the blur feature 
 instead.\nYou cannot take this class in a vehicle.\nThe Zoom link to atten
 d this class will be provided via email.\nPlease follow the link below for
  a brief tutorial on how to sign up for a free Zoom account.\nZoom User Gu
 ide
ATTACH;FMTTYPE=image/jpeg:https://fakce.org/wp-content/uploads/2019/01/tee
 n-and-parent.jpg
CATEGORIES:Classes,Online Classes,Specialty Classes
LOCATION:Zoom\, 0000 Zoom \, San Diego\, United States
X-APPLE-STRUCTURED-LOCATION;VALUE=URI;X-ADDRESS=0000 Zoom \, San Diego\, Un
 ited States;X-APPLE-RADIUS=100;X-TITLE=Zoom:geo:0,0
END:VEVENT
BEGIN:VTIMEZONE
TZID:America/Los_Angeles
X-LIC-LOCATION:America/Los_Angeles
BEGIN:DAYLIGHT
DTSTART:20250309T030000
TZOFFSETFROM:-0800
TZOFFSETTO:-0700
TZNAME:PDT
END:DAYLIGHT
END:VTIMEZONE
END:VCALENDAR