BEGIN:VCALENDAR
VERSION:2.0
PRODID:-//wp-events-plugin.com//7.2.3.1//EN
TZID:America/Los_Angeles
X-WR-TIMEZONE:America/Los_Angeles
BEGIN:VEVENT
UID:17312@fakce.org
DTSTART;TZID=America/Los_Angeles:20241206T180000
DTEND;TZID=America/Los_Angeles:20241206T210000
DTSTAMP:20241204T223142Z
URL:https://fakce.org/events/online-brain-builders-2024-12-06/
SUMMARY:Online | Brain Builders
DESCRIPTION:Instructor: Robin Thompson\, MSW\n\nUsing the ﬁrst ﬁve vide
 o 'Brain Builders' this class explains how experiences in the ﬁrst year
 s of our lives aﬀect how our brains form. Research shows that the stress
  of abuse or neglect can damage the basic structures of a child’s develo
 ping brain. Without the right help\, it can put them at risk of a lifetime
  of health problems\, developmental issues and addiction. We will discuss 
 ways to help children rewire their brains for better outcomes.\nRegistrati
 on will close on Friday\, December 6\, 2024\, at 7 am \n***Please Note: T
 his class will be facilitated on the online platform called Zoom. Internet
  access and access to a computer/laptop/tablet/smartphone is required to a
 ttend.\nThe link to attend this class will be provided at registration.\nP
 lease follow the link below for a brief tutorial on how to sign up for a f
 ree Zoom account.\nZoom User Guide
ATTACH;FMTTYPE=image/jpeg:https://fakce.org/wp-content/uploads/2021/05/Gir
 l-With-Spyglass.jpg
CATEGORIES:Classes,Online Classes,Specialty Classes
LOCATION:Zoom\, 0000 Zoom \, San Diego\, United States
X-APPLE-STRUCTURED-LOCATION;VALUE=URI;X-ADDRESS=0000 Zoom \, San Diego\, Un
 ited States;X-APPLE-RADIUS=100;X-TITLE=Zoom:geo:0,0
END:VEVENT
BEGIN:VTIMEZONE
TZID:America/Los_Angeles
X-LIC-LOCATION:America/Los_Angeles
BEGIN:STANDARD
DTSTART:20241103T010000
TZOFFSETFROM:-0700
TZOFFSETTO:-0800
TZNAME:PST
END:STANDARD
END:VTIMEZONE
END:VCALENDAR