BEGIN:VCALENDAR
VERSION:2.0
PRODID:-//wp-events-plugin.com//7.2.3.1//EN
TZID:America/Los_Angeles
X-WR-TIMEZONE:America/Los_Angeles
BEGIN:VEVENT
UID:14236@fakce.org
DTSTART;TZID=America/Los_Angeles:20220428T150000
DTEND;TZID=America/Los_Angeles:20220428T180000
DTSTAMP:20220211T194538Z
URL:https://fakce.org/events/online-behavior-modi%ef%ac%81cation-strategie
 s-and-their-long%e2%80%90term-e%ef%ac%80ects-on-self%e2%80%90motivation-pe
 rformance-and-self%e2%80%90discipline-2022-04-28/
SUMMARY:Online |  Behavior Modiﬁcation Strategies and their Long‐Term E
 ﬀects on Self‐Motivation\, Performance\, and Self‐Discipline
DESCRIPTION:Did you know there are two diﬀerent types of “evidence‐ba
 sed parenting” ‐‐‐ one that shows both short‐ and long‐term o
 utcomes and one that doesn’t? In this fun\, interactive\, webinar\, you
 ’ll experience what the latest research shows are the short‐ and long
 ‐term outcomes of behavior modiﬁcation techniques\, especially using A
 pplied Behavioral Analysis (ABA)\, and especially with autistic children. 
 Prepare yourself to be surprised and self‐ motivated to learn and use wh
 at research shows are the most eﬀective tools for fostering self‐motiv
 ation\, performance\, and self‐disciplined behavior.\nRegistration will 
 close on  Thursday\, April 28\, 2022 at 7 am\n&nbsp\;\n***Please Note: Th
 is class will be facilitated on the online platform called Zoom. Internet 
 access and access to a computer/laptop/tablet/smartphone is required to at
 tend.\nThe link to attend this class will be provided at registration.\nPl
 ease follow the link below for a brief tutorial on how to sign up for a fr
 ee Zoom account.\nZoom User Guide
ATTACH;FMTTYPE=image/jpeg:https://fakce.org/wp-content/uploads/2016/08/o-C
 LASSROOM-facebook.jpg
CATEGORIES:Classes,Online Classes,Specialty Classes
LOCATION:Zoom\, 0000 Zoom \, San Diego\, United States
X-APPLE-STRUCTURED-LOCATION;VALUE=URI;X-ADDRESS=0000 Zoom \, San Diego\, Un
 ited States;X-APPLE-RADIUS=100;X-TITLE=Zoom:geo:0,0
END:VEVENT
BEGIN:VTIMEZONE
TZID:America/Los_Angeles
X-LIC-LOCATION:America/Los_Angeles
BEGIN:DAYLIGHT
DTSTART:20220313T030000
TZOFFSETFROM:-0800
TZOFFSETTO:-0700
TZNAME:PDT
END:DAYLIGHT
END:VTIMEZONE
END:VCALENDAR