BEGIN:VCALENDAR
VERSION:2.0
PRODID:-//wp-events-plugin.com//7.2.3.1//EN
TZID:America/Los_Angeles
X-WR-TIMEZONE:America/Los_Angeles
BEGIN:VEVENT
UID:17680@fakce.org
DTSTART;TZID=America/Los_Angeles:20250408T130000
DTEND;TZID=America/Los_Angeles:20250408T160000
DTSTAMP:20250216T040111Z
URL:https://fakce.org/events/online-bedtime-is-a-nightmare-common-bedtime-
 hassles-trauma-related-sleep-issues-2025-04-08/
SUMMARY:Online | Bedtime is a Nightmare! Common Bedtime Hassles & Trauma-Re
 lated Sleep Issues
DESCRIPTION:Description: Getting children to bed on time\, asleep\, and sta
 ying there is one of the most common challenges parents face. Foster child
 ren can have sleep issues related to trauma\, like night terrors\, insomni
 a\, and trauma triggers. This workshop oﬀers creative ideas and practica
 l solutions to the Top Ten Bedtime Hassles.\n\n\nThe Foster-Adoptive Paren
 ts Toolshop® training series is a comprehensive 30+ hour evidence-based\,
  trauma informed parenting curriculum for foster and kinship caregivers an
 d adoptive parents. The entire series will be oﬀered over the next 8 mon
 ths\, September 2022\, June 2023 and will be taught by the curriculum’s 
 author Jody Johnston Pawel\, LSW\, CFLE\, CTSS.\nWhile each individual wor
 kshop is valuable as a stand-alone workshop\, when combined they create a 
 parenting system called The Universal Blueprint® for Parenting Success. Y
 ou can use this universal system to prevent common parenting challenges an
 d plan personalized responses and solutions to those that arise\, based on
  the child\, circumstance\, and family involved. The series oﬀers an ove
 rview of the system and its tools\, plus the in-depth workshops in order\,
  so they build on each other.\nDon’t worry if you can’t take them all\
 , you can take one\, some or as many as you wish! The Series will be oﬀe
 red on the 2nd and 4th Mondays from September 2022 to June 2023 from 3-6pm
 . Please note there are some 2- part trainings. You must attend both sessi
 ons to get credit.\nGuest Instructor: Jody Johnston-Pawel\, LSW\, CFLE\nJo
 dy Johnston Pawel is a Licensed Social Worker in the State of Ohio and a C
 ertified Family Life Educator. She is the author of the award-winning The 
 Parent’s Toolshop® book and Founder/CEO of the Relationship Toolshop® 
 International Training Institute. LLC.\n\n&nbsp\;\n***Please Note: This cl
 ass will be facilitated on the Zoom platform.\nInternet access and access 
 to a computer/laptop/tablet/smartphone is required to attend.\nWe kindly r
 equest that participants avoid using distracting virtual backgrounds. For 
 privacy\, we recommend using the blur feature instead.\nYou cannot take th
 is class in a vehicle.\nThe Zoom link to attend this class will be provide
 d via email.\nPlease follow the link below for a brief tutorial on how to 
 sign up for a free Zoom account.\nZoom User Guide
ATTACH;FMTTYPE=image/jpeg:https://fakce.org/wp-content/uploads/2022/07/His
 panic-Family2.jpg
CATEGORIES:Classes,Online Classes,Specialty Classes
LOCATION:Zoom\, 0000 Zoom \, San Diego\, United States
X-APPLE-STRUCTURED-LOCATION;VALUE=URI;X-ADDRESS=0000 Zoom \, San Diego\, Un
 ited States;X-APPLE-RADIUS=100;X-TITLE=Zoom:geo:0,0
END:VEVENT
BEGIN:VTIMEZONE
TZID:America/Los_Angeles
X-LIC-LOCATION:America/Los_Angeles
BEGIN:DAYLIGHT
DTSTART:20250309T030000
TZOFFSETFROM:-0800
TZOFFSETTO:-0700
TZNAME:PDT
END:DAYLIGHT
END:VTIMEZONE
END:VCALENDAR