BEGIN:VCALENDAR
VERSION:2.0
PRODID:-//wp-events-plugin.com//7.2.3.1//EN
TZID:America/Los_Angeles
X-WR-TIMEZONE:America/Los_Angeles
BEGIN:VEVENT
UID:15673@fakce.org
DTSTART;TZID=America/Los_Angeles:20230508T150000
DTEND;TZID=America/Los_Angeles:20230508T180000
DTSTAMP:20230404T230702Z
URL:https://fakce.org/events/online-bedtime-is-a-nightmare-common-bedtime-
 hassles-trauma-related-sleep-issues-2023-05-08/
SUMMARY:Online | Bedtime is a Nightmare! Common Bedtime Hassles & Trauma-Re
 lated Sleep Issues
DESCRIPTION:Getting children to bed on time\, asleep\, and staying there is
  one of the most common challenges parents face. Foster children can have 
 sleep issues related to trauma\, like night terrors\, insomnia\, and traum
 a triggers. This workshop offers creative ideas and practical solutions to
  the Top Ten Bedtime Hassles.\nRegistration will close on Monday\, May 8\,
  2023\, at 7 am \nThe Foster-Adoptive Parents Toolshop® training series 
 is a comprehensive 30+ hour evidence-based\, trauma informed parenting cur
 riculum for foster and kinship caregivers and adoptive parents. The entire
  series will be oﬀered over the next 8 months\, September 2022\, June 20
 23 and will be taught by the curriculum’s author Jody Johnston Pawel\, L
 SW\, CFLE\, CTSS.\n\nWhile each individual workshop is valuable as a stand
 -alone workshop\, when combined they create a parenting system called The 
 Universal Blueprint® for Parenting Success. You can use this universal sy
 stem to prevent common parenting challenges and plan personalized response
 s and solutions to those that arise\, based on the child\, circumstance\, 
 and family involved. The series oﬀers an overview of the system and its 
 tools\, plus the in-depth workshops in order\, so they build on each other
 .\n\nDon’t worry if you can’t take them all\, you can take one\, some 
 or as many as you wish! The Series will be oﬀered on the 2nd and 4th Mon
 days from September 2022 to June 2023 from 3-6pm. Please note there are so
 me 2- part trainings. You must attend both sessions to get credit.\n\nTo s
 ee a flyer with a complete list of Jody Johnston-Pawel classes\, click he
 re \n\nGuest Instructor: Jody Johnston-Pawel\, LSW\, CFLE\n\nJody Johnst
 on Pawel is a Licensed Social Worker in the State of Ohio and a Certified 
 Family Life Educator. She is the author of the award-winning The Parent
 ’s Toolshop® book and Founder/CEO of the Relationship Toolshop® Inter
 national Training Institute. LLC.\n\n&nbsp\;\n***Please Note: This class 
 will be facilitated on the online platform called Zoom. Internet access an
 d access to a computer/laptop/tablet/smartphone is required to attend.\nTh
 e link to attend this class will be provided at registration.\nPlease foll
 ow the link below for a brief tutorial on how to sign up for a free Zoom a
 ccount.\nZoom User Guide
ATTACH;FMTTYPE=image/jpeg:https://fakce.org/wp-content/uploads/2016/08/dau
 ghter-838986_1280.jpg
CATEGORIES:Classes,Online Classes,Specialty Classes
LOCATION:Zoom\, 0000 Zoom \, San Diego\, United States
X-APPLE-STRUCTURED-LOCATION;VALUE=URI;X-ADDRESS=0000 Zoom \, San Diego\, Un
 ited States;X-APPLE-RADIUS=100;X-TITLE=Zoom:geo:0,0
END:VEVENT
BEGIN:VTIMEZONE
TZID:America/Los_Angeles
X-LIC-LOCATION:America/Los_Angeles
BEGIN:DAYLIGHT
DTSTART:20230312T030000
TZOFFSETFROM:-0800
TZOFFSETTO:-0700
TZNAME:PDT
END:DAYLIGHT
END:VTIMEZONE
END:VCALENDAR