BEGIN:VCALENDAR
VERSION:2.0
PRODID:-//wp-events-plugin.com//7.2.3.1//EN
TZID:America/Los_Angeles
X-WR-TIMEZONE:America/Los_Angeles
BEGIN:VEVENT
UID:18374@fakce.org
DTSTART;TZID=America/Los_Angeles:20260116T100000
DTEND;TZID=America/Los_Angeles:20260116T120000
DTSTAMP:20260109T203837Z
URL:https://fakce.org/events/online-babies-through-preschoolers-support-gr
 oup-child-development-series-the-first-year-2026-01-16/
SUMMARY:Online |Babies through Preschoolers Support Group: Child Developmen
 t Series- The First Year
DESCRIPTION:Meets every 3rd Friday of the Month\n** No Meetings in June\, J
 uly &amp\; December**\nOngoing training and support will be provided on po
 sitive discipline\, the importance of brain structure and development in e
 arly childhood\, and how to care for babies in the Child Welfare System.\n
 Group Leader: MaryAnn Paschal\n\nTopic: It is important to know\, develop
 mental milestones are not met by age\; they are developed by experiences. 
 For children who have experienced abuse and neglect\, emotional\, social\,
  cognitive and physical development may be delayed due to a lack of care a
 nd interaction. In this series\, we will look at development within 6 age 
 groups. What it should look like\, how you can help with development and t
 he resources available to help.\n\n 	First Year- the first year of life is
  crucial to brain development. Let’s talk about how to meet the needs of
  our infants.\n\n***Please Note: This class will be facilitated on the Zoo
 m platform.\n Internet access and access to a computer/laptop/tablet/smart
 phone is required to attend.\nFor our support group meetings\, all partici
 pants must have their cameras on\, regardless of whether they are seeking
  credit or not. This requirement is designed to encourage full engagement 
 and connection among participants\, fostering a more supportive atmosphere
  within our community. Please note that individuals unable to participate 
 with their cameras on will not be able to join the support group sessions.
 \nWe kindly request that participants avoid using distracting virtual back
 grounds. For privacy\, we recommend using the blur feature instead.\nYou c
 annot take this class in a vehicle.\nThe link to attend this class will be
  provided via email.\nPlease follow the link below for a brief tutorial on
  how to sign up for a free Zoom account.\nZoom User Guide
ATTACH;FMTTYPE=image/jpeg:https://fakce.org/wp-content/uploads/2016/03/bro
 thers-457237_1280.jpg
CATEGORIES:Classes,Online Classes,Support Groups,Workshops
LOCATION:Zoom\, 0000 Zoom \, San Diego\, United States
X-APPLE-STRUCTURED-LOCATION;VALUE=URI;X-ADDRESS=0000 Zoom \, San Diego\, Un
 ited States;X-APPLE-RADIUS=100;X-TITLE=Zoom:geo:0,0
END:VEVENT
BEGIN:VTIMEZONE
TZID:America/Los_Angeles
X-LIC-LOCATION:America/Los_Angeles
BEGIN:STANDARD
DTSTART:20251102T010000
TZOFFSETFROM:-0700
TZOFFSETTO:-0800
TZNAME:PST
END:STANDARD
END:VTIMEZONE
END:VCALENDAR