BEGIN:VCALENDAR
VERSION:2.0
PRODID:-//wp-events-plugin.com//7.2.3.1//EN
TZID:America/Los_Angeles
X-WR-TIMEZONE:America/Los_Angeles
BEGIN:VEVENT
UID:17311@fakce.org
DTSTART;TZID=America/Los_Angeles:20241204T180000
DTEND;TZID=America/Los_Angeles:20241204T200000
DTSTAMP:20241204T222438Z
URL:https://fakce.org/events/online-awakening-joy-in-di%ef%ac%83cult-times
 -via-mindfulness-2024-12-04/
SUMMARY:Online | Awakening Joy in Diﬃcult Times Via Mindfulness
DESCRIPTION:Instructor: Bettina Heitmann\, Mindfulness Meditation Teacher\n
 Awakening joy starts with the intention to be happy. We don’t need to wa
 it for pleasant moods or until certain conditions are met in our lives to 
 make us feel joyful. Rather than postponing our happiness it can be found 
 in each moment\, regardless of our circumstances. In this class participan
 ts learn to place well‐being at the center of their lives in the here an
 d now. Students will be encouraged to set a personal intention to incline 
 their minds towards happiness and well‐being and experience meditation a
 s a path towards inner peace and happiness.\nRegistration will close Wedne
 sday\, December 4\, 2024 at 7am \n***Please Note: This class will be faci
 litated on the online platform called Zoom. Internet access and access to 
 a computer/laptop/tablet/smartphone is required to attend.\nThe link to at
 tend this class will be provided at on the day of class.\nPlease follow th
 e link below for a brief tutorial on how to sign up for a free Zoom accoun
 t.\nZoom User Guide
ATTACH;FMTTYPE=image/jpeg:https://fakce.org/wp-content/uploads/2023/04/ist
 ockphoto-478921850-170667a.jpg
CATEGORIES:Classes,Online Classes,Specialty Classes
LOCATION:Zoom\, 0000 Zoom \, San Diego\, United States
X-APPLE-STRUCTURED-LOCATION;VALUE=URI;X-ADDRESS=0000 Zoom \, San Diego\, Un
 ited States;X-APPLE-RADIUS=100;X-TITLE=Zoom:geo:0,0
END:VEVENT
BEGIN:VTIMEZONE
TZID:America/Los_Angeles
X-LIC-LOCATION:America/Los_Angeles
BEGIN:STANDARD
DTSTART:20241103T010000
TZOFFSETFROM:-0700
TZOFFSETTO:-0800
TZNAME:PST
END:STANDARD
END:VTIMEZONE
END:VCALENDAR