BEGIN:VCALENDAR
VERSION:2.0
PRODID:-//wp-events-plugin.com//7.2.3.1//EN
TZID:America/Los_Angeles
X-WR-TIMEZONE:America/Los_Angeles
BEGIN:VEVENT
UID:18428@fakce.org
DTSTART;TZID=America/Los_Angeles:20260114T180000
DTEND;TZID=America/Los_Angeles:20260114T210000
DTSTAMP:20251212T193143Z
URL:https://fakce.org/events/online-attitude-of-gratitude-cultivating-posi
 tivity-and-perspective-in-family-life-2026-01-14/
SUMMARY:Online | Attitude of Gratitude: Cultivating Positivity and Perspect
 ive in Family Life
DESCRIPTION:Instructors: Nicole Espinosa\, LCSW &amp\; Pam Willis\, Resourc
 e/Adoptive Parent\nDescription: In this class you will learn about the pow
 er of gratitude to help you and your child experience more positive emotio
 ns\, improve your health\, and live happier lives. We will discuss the sci
 ence behind gratitude and its lasting effects on the brain. Being grateful
  can help heal trauma and build resilience in your child and you as caregi
 vers. We would be grateful if you joined us for this fun class!\n***Please
  Note: This class will be facilitated on the Zoom platform.\nInternet acce
 ss and access to a computer/laptop/tablet/smartphone is required to attend
 .\nWe kindly request that participants avoid using distracting virtual bac
 kgrounds. For privacy\, we recommend using the blur feature instead.\nYou 
 cannot take this class in a vehicle.\nThe Zoom link to attend this class w
 ill be provided via email.\nPlease follow the link below for a brief tutor
 ial on how to sign up for a free Zoom account.\nZoom User Guide
ATTACH;FMTTYPE=image/jpeg:https://fakce.org/wp-content/uploads/2016/08/kid
 s-·-kids-·-kids.jpg
CATEGORIES:Classes,Online Classes,Specialty Classes
LOCATION:Zoom\, 0000 Zoom \, San Diego\, United States
X-APPLE-STRUCTURED-LOCATION;VALUE=URI;X-ADDRESS=0000 Zoom \, San Diego\, Un
 ited States;X-APPLE-RADIUS=100;X-TITLE=Zoom:geo:0,0
END:VEVENT
BEGIN:VTIMEZONE
TZID:America/Los_Angeles
X-LIC-LOCATION:America/Los_Angeles
BEGIN:STANDARD
DTSTART:20251102T010000
TZOFFSETFROM:-0700
TZOFFSETTO:-0800
TZNAME:PST
END:STANDARD
END:VTIMEZONE
END:VCALENDAR