BEGIN:VCALENDAR
VERSION:2.0
PRODID:-//wp-events-plugin.com//7.2.3.1//EN
TZID:America/Los_Angeles
X-WR-TIMEZONE:America/Los_Angeles
BEGIN:VEVENT
UID:15796@fakce.org
DTSTART;TZID=America/Los_Angeles:20230731T180000
DTEND;TZID=America/Los_Angeles:20230731T210000
DTSTAMP:20230608T213336Z
URL:https://fakce.org/events/online-attachment-the-first-core-strength-202
 3-07-31/
SUMMARY:Online | Attachment: The First Core Strength
DESCRIPTION:Attachment is the ability to form and maintain healthy emotiona
 l relationships. An attachment bond has unique features and the ability to
  form these special relationships begins early in childhood. Unfortunately
 \, some of the children who end up in foster care lack this ability and at
  no fault of their own. The ability to form attachments is the ﬁrst of s
 ix core strengths that are an essential part of healthy emotional developm
 ent. Join us to learn how to build this core strength for your child\, bec
 ause research and clinical experience show that attachment capacity is eas
 iest to shape if early identiﬁcation and intervention takes place. It is
  never too late to intervene!\n Registration will close on Monday\, July 
 31\, 2023 at 7 am \n&nbsp\;\n***Please Note: This class will be facilitat
 ed on the online platform called Zoom. Internet access and access to a com
 puter/laptop/tablet/smartphone is required to attend.\nThe link to attend 
 this class will be provided at registration.\nPlease follow the link below
  for a brief tutorial on how to sign up for a free Zoom account.\nZoom Use
 r Guide
ATTACH;FMTTYPE=image/jpeg:https://fakce.org/wp-content/uploads/2023/04/ist
 ockphoto-1313553003-612x612-1.jpg
CATEGORIES:Classes,Online Classes,Specialty Classes
LOCATION:Zoom\, 0000 Zoom \, San Diego\, United States
X-APPLE-STRUCTURED-LOCATION;VALUE=URI;X-ADDRESS=0000 Zoom \, San Diego\, Un
 ited States;X-APPLE-RADIUS=100;X-TITLE=Zoom:geo:0,0
END:VEVENT
BEGIN:VTIMEZONE
TZID:America/Los_Angeles
X-LIC-LOCATION:America/Los_Angeles
BEGIN:DAYLIGHT
DTSTART:20230312T030000
TZOFFSETFROM:-0800
TZOFFSETTO:-0700
TZNAME:PDT
END:DAYLIGHT
END:VTIMEZONE
END:VCALENDAR