BEGIN:VCALENDAR
VERSION:2.0
PRODID:-//wp-events-plugin.com//7.2.3.1//EN
TZID:America/Los_Angeles
X-WR-TIMEZONE:America/Los_Angeles
BEGIN:VEVENT
UID:15854@fakce.org
DTSTART;TZID=America/Los_Angeles:20230722T090000
DTEND;TZID=America/Los_Angeles:20230722T153000
DTSTAMP:20230708T204919Z
URL:https://fakce.org/events/online-attachment-parenting-session-56-2023-0
 7-22/
SUMMARY:Online | Attachment Parenting Session 5&6
DESCRIPTION:                                          
 Series of 3 Saturday's - July 8 (session 1&amp\;2)\, 15 (session 3&amp\;4)
 \, 22 (session 5&amp\;6)\nInstructors: Adoption Social Worker\, Therapist\
 , Adoptive Parent\n\nMost children in out of home care have experienced di
 sruptions in attachment formation due to child abuse\, neglect\, and/or mu
 ltiple placements. Traditional parenting\, which relies upon a strong atta
 chment\, doesn't work well with these children. Come to get an understandi
 ng of the way traumatized children see life and how you can alter your par
 enting techniques to accommodate their unique life experiences and current
  need. (Join us for any or all of the sessions).\n\nTopics include:\n\n 	A
 ttachment\n 	Developmental Parenting\n 	Therapeutic Parenting\n 	Positive 
 Discipline through Attachment\n\nRegistration will close on Thursday\, Jul
 y 20\, 2022 at 12pm \n***Please Note: This class will be facilitated on t
 he online platform called Zoom. Internet access and access to a computer/l
 aptop/tablet/smartphone is required to attend.\nThe Zoom link to attend th
 is class will be provided on the day of class\nPlease follow the link belo
 w for a brief tutorial on how to sign up for a free Zoom account.\nZoom Us
 er Guide
ATTACH;FMTTYPE=image/jpeg:https://fakce.org/wp-content/uploads/2015/03/FTI
 0028E.jpg
CATEGORIES:Attachment Parenting Classes,Classes,Online Classes
LOCATION:Zoom\, 0000 Zoom \, San Diego\, United States
X-APPLE-STRUCTURED-LOCATION;VALUE=URI;X-ADDRESS=0000 Zoom \, San Diego\, Un
 ited States;X-APPLE-RADIUS=100;X-TITLE=Zoom:geo:0,0
END:VEVENT
BEGIN:VTIMEZONE
TZID:America/Los_Angeles
X-LIC-LOCATION:America/Los_Angeles
BEGIN:DAYLIGHT
DTSTART:20230312T030000
TZOFFSETFROM:-0800
TZOFFSETTO:-0700
TZNAME:PDT
END:DAYLIGHT
END:VTIMEZONE
END:VCALENDAR