BEGIN:VCALENDAR
VERSION:2.0
PRODID:-//wp-events-plugin.com//7.2.3.1//EN
TZID:America/Los_Angeles
X-WR-TIMEZONE:America/Los_Angeles
BEGIN:VEVENT
UID:17983@fakce.org
DTSTART;TZID=America/Los_Angeles:20251121T180000
DTEND;TZID=America/Los_Angeles:20251121T210000
DTSTAMP:20251027T205900Z
URL:https://fakce.org/events/online-attachment-parenting-6-2025-11-21/
SUMMARY:Online | Attachment Parenting 6
DESCRIPTION:Series of 6 Friday's - October 17\, 24\, 31 and November 7\, 14
  and 21\nInstructors: Adoption Social Worker\, Therapist\, Adoptive Parent
 \n\nDescription: Most children in out-of-home care have experienced disrup
 tions in attachment formation due to child abuse\, neglect\, and/or multip
 le placements. Traditional parenting\, which relies on strong attachment\,
  doesn't work well with these children. Come to get an understanding of th
 e way traumatized children see life and how you can alter your parenting t
 echniques to accommodate their unique life experiences and current needs.\
 n\nTopics include:\n\n 	Attachment\n 	Developmental Parenting\n 	Therapeut
 ic Parenting\n 	Positive Discipline through Attachment\n\n***Please Note: 
 This class will be facilitated on the Zoom platform.\nInternet access and 
 access to a computer/laptop/tablet/smartphone is required to attend.\nWe k
 indly request that participants avoid using distracting virtual background
 s. For privacy\, we recommend using the blur feature instead.\nYou cannot 
 take this class in a vehicle.\nThe Zoom link to attend this class will be 
 provided via email.\nPlease follow the link below for a brief tutorial on 
 how to sign up for a free Zoom account.\nZoom User Guide
ATTACH;FMTTYPE=image/jpeg:https://fakce.org/wp-content/uploads/2015/03/FTI
 0028E.jpg
CATEGORIES:Attachment Parenting Classes,Classes,Online Classes
LOCATION:Zoom\, 0000 Zoom \, San Diego\, United States
X-APPLE-STRUCTURED-LOCATION;VALUE=URI;X-ADDRESS=0000 Zoom \, San Diego\, Un
 ited States;X-APPLE-RADIUS=100;X-TITLE=Zoom:geo:0,0
END:VEVENT
BEGIN:VTIMEZONE
TZID:America/Los_Angeles
X-LIC-LOCATION:America/Los_Angeles
BEGIN:STANDARD
DTSTART:20251102T010000
TZOFFSETFROM:-0700
TZOFFSETTO:-0800
TZNAME:PST
END:STANDARD
END:VTIMEZONE
END:VCALENDAR