BEGIN:VCALENDAR
VERSION:2.0
PRODID:-//wp-events-plugin.com//7.2.3.1//EN
TZID:America/Los_Angeles
X-WR-TIMEZONE:America/Los_Angeles
BEGIN:VEVENT
UID:17982@fakce.org
DTSTART;TZID=America/Los_Angeles:20251114T180000
DTEND;TZID=America/Los_Angeles:20251114T210000
DTSTAMP:20251027T210024Z
URL:https://fakce.org/events/online-attachment-parenting-5-2025-11-14/
SUMMARY:Online | Attachment Parenting 5
DESCRIPTION:Series of 6 Friday's - October 17\, 24\, 31 and November 7\, 14
  and 21\nImportant Registration Update:To receive email or text reminders 
 for this series\, please register individually for each session you plan t
 o attend. Participants who register only for Session 1 will not be automat
 ically enrolled in the remaining sessions.\nInstructors: Adoption Social W
 orker\, Therapist\, Adoptive Parent\n\nDescription: Most children in out-o
 f-home care have experienced disruptions in attachment formation due to ch
 ild abuse\, neglect\, and/or multiple placements. Traditional parenting\, 
 which relies on strong attachment\, doesn't work well with these children.
  Come to get an understanding of the way traumatized children see life and
  how you can alter your parenting techniques to accommodate their unique l
 ife experiences and current needs.\n\nTopics include:\n\n 	Attachment\n 	D
 evelopmental Parenting\n 	Therapeutic Parenting\n 	Positive Discipline thr
 ough Attachment\n\nRegistration Details:To ensure you receive the correct 
 Zoom links\, materials\, and email/text reminders\, please register separa
 tely for each session you wish to attend in this 6-part series.\nParticipa
 nts who register only for Session 1 will not be automatically enrolled in 
 future sessions.Registering for each date helps us manage attendance and c
 ommunication more efficiently while ensuring you stay connected to every c
 lass you plan to join.\nThank you for your understanding and for helping u
 s make the registration process smoother for everyone!\nUpcoming Sessions:
 \n\n 	Session 6 - Friday\, November 21st | Click Here to Register\n\n***Pl
 ease Note: This class will be facilitated on the Zoom platform.\nInternet 
 access and access to a computer/laptop/tablet/smartphone is required to at
 tend.\nWe kindly request that participants avoid using distracting virtual
  backgrounds. For privacy\, we recommend using the blur feature instead.\n
 You cannot take this class in a vehicle.\nThe Zoom link to attend this cla
 ss will be provided via email.\nPlease follow the link below for a brief t
 utorial on how to sign up for a free Zoom account.\nZoom User Guide
ATTACH;FMTTYPE=image/jpeg:https://fakce.org/wp-content/uploads/2015/03/FTI
 0028E.jpg
CATEGORIES:Attachment Parenting Classes,Classes,Online Classes
LOCATION:Zoom\, 0000 Zoom \, San Diego\, United States
X-APPLE-STRUCTURED-LOCATION;VALUE=URI;X-ADDRESS=0000 Zoom \, San Diego\, Un
 ited States;X-APPLE-RADIUS=100;X-TITLE=Zoom:geo:0,0
END:VEVENT
BEGIN:VTIMEZONE
TZID:America/Los_Angeles
X-LIC-LOCATION:America/Los_Angeles
BEGIN:STANDARD
DTSTART:20251102T010000
TZOFFSETFROM:-0700
TZOFFSETTO:-0800
TZNAME:PST
END:STANDARD
END:VTIMEZONE
END:VCALENDAR