BEGIN:VCALENDAR
VERSION:2.0
PRODID:-//wp-events-plugin.com//7.2.3.1//EN
TZID:America/Los_Angeles
X-WR-TIMEZONE:America/Los_Angeles
BEGIN:VEVENT
UID:17662@fakce.org
DTSTART;TZID=America/Los_Angeles:20250403T180000
DTEND;TZID=America/Los_Angeles:20250403T210000
DTSTAMP:20250214T040023Z
URL:https://fakce.org/events/online-attachment-parenting-3-2025-04-03/
SUMMARY:Online | Attachment Parenting 3
DESCRIPTION:You will be automatically enrolled in each session by registeri
 ng in session 1 \nSeries of 6 Tuesday/Thursday - March 20\, 25 and April 
 03\, 08\, 17 &amp\; 22\nInstructors: Adoption Social Worker\, Therapist\, 
 Adoptive Parent\n\nMost children in out-of-home care have experienced disr
 uptions in attachment formation due to child abuse\, neglect\, and/or mult
 iple placements. Traditional parenting\, which relies on strong attachment
 \, doesn't work well with these children. Come to get an understanding of 
 the way traumatized children see life and how you can alter your parenting
  techniques to accommodate their unique life experiences and current needs
 .\n\nTopics include:\n\n 	Attachment\n 	Developmental Parenting\n 	Therape
 utic Parenting\n 	Positive Discipline through Attachment\n\n***Please Note
 : This class will be facilitated on the Zoom platform.\nInternet access an
 d access to a computer/laptop/tablet/smartphone is required to attend.\nWe
  kindly request that participants avoid using distracting virtual backgrou
 nds. For privacy\, we recommend using the blur feature instead.\nYou canno
 t take this class in a vehicle.\nThe Zoom link to attend this class will b
 e provided via email.\nPlease follow the link below for a brief tutorial o
 n how to sign up for a free Zoom account.\nZoom User Guide
ATTACH;FMTTYPE=image/jpeg:https://fakce.org/wp-content/uploads/2015/03/FTI
 0028E.jpg
CATEGORIES:Attachment Parenting Classes,Classes,Online Classes
LOCATION:Zoom\, 0000 Zoom \, San Diego\, United States
X-APPLE-STRUCTURED-LOCATION;VALUE=URI;X-ADDRESS=0000 Zoom \, San Diego\, Un
 ited States;X-APPLE-RADIUS=100;X-TITLE=Zoom:geo:0,0
END:VEVENT
BEGIN:VTIMEZONE
TZID:America/Los_Angeles
X-LIC-LOCATION:America/Los_Angeles
BEGIN:DAYLIGHT
DTSTART:20250309T030000
TZOFFSETFROM:-0800
TZOFFSETTO:-0700
TZNAME:PDT
END:DAYLIGHT
END:VTIMEZONE
END:VCALENDAR