BEGIN:VCALENDAR
VERSION:2.0
PRODID:-//wp-events-plugin.com//7.2.3.1//EN
TZID:America/Los_Angeles
X-WR-TIMEZONE:America/Los_Angeles
BEGIN:VEVENT
UID:18514@fakce.org
DTSTART;TZID=America/Los_Angeles:20260202T093000
DTEND;TZID=America/Los_Angeles:20260202T123000
DTSTAMP:20251218T234210Z
URL:https://fakce.org/events/online-attachment-parenting-2-2026-02-02/
SUMMARY:Online | Attachment Parenting 2
DESCRIPTION:Series of 6 Monday's \nInstructors: Adoption Social Worker\, T
 herapist\, Adoptive Parent\n\nMost children in out-of-home care have exper
 ienced disruptions in attachment formation due to child abuse\, neglect\, 
 and/or multiple placements. Traditional parenting\, which relies on strong
  attachment\, doesn't work well with these children. Come to get an unders
 tanding of the way traumatized children see life and how you can alter you
 r parenting techniques to accommodate their unique life experiences and cu
 rrent needs.\n\nTopics include:\n\n 	Attachment\n 	Developmental Parenting
 \n 	Therapeutic Parenting\n 	Positive Discipline through Attachment\n\nDat
 es:\n\n 	Session 3 | Monday\, February 23\, 2026\n 	Session 4 | Monday\, M
 arch 02\, 2026\n 	Session 5 | Monday\, March 23\, 2026\n 	Session 6 | Mond
 ay\, March 30\, 2026\n\n&nbsp\;\n**Important Registration Notice**When you
  register for a class that is part of a series\, you will be automatically
  registered for all future sessions in that series.\nHowever\, to receive 
 email or text reminders for each session\, you must register separately fo
 r each individual workshop.\nTo register for Session 3\, click here.\n&nbs
 p\;\n\n&nbsp\;\n***Please Note: This class will be facilitated on the Zoom
  platform.\nInternet access and access to a computer/laptop/tablet/smartph
 one is required to attend.\nWe kindly request that participants avoid usin
 g distracting virtual backgrounds. For privacy\, we recommend using the bl
 ur feature instead.\nYou cannot take this class in a vehicle.\nThe Zoom li
 nk to attend this class will be provided via email.\nPlease follow the lin
 k below for a brief tutorial on how to sign up for a free Zoom account.\nZ
 oom User Guide
ATTACH;FMTTYPE=image/jpeg:https://fakce.org/wp-content/uploads/2015/03/FTI
 0028E.jpg
CATEGORIES:Attachment Parenting Classes,Classes,Online Classes
LOCATION:Zoom\, 0000 Zoom \, San Diego\, United States
X-APPLE-STRUCTURED-LOCATION;VALUE=URI;X-ADDRESS=0000 Zoom \, San Diego\, Un
 ited States;X-APPLE-RADIUS=100;X-TITLE=Zoom:geo:0,0
END:VEVENT
BEGIN:VTIMEZONE
TZID:America/Los_Angeles
X-LIC-LOCATION:America/Los_Angeles
BEGIN:STANDARD
DTSTART:20251102T010000
TZOFFSETFROM:-0700
TZOFFSETTO:-0800
TZNAME:PST
END:STANDARD
END:VTIMEZONE
END:VCALENDAR