BEGIN:VCALENDAR
VERSION:2.0
PRODID:-//wp-events-plugin.com//7.2.3.1//EN
TZID:America/Los_Angeles
X-WR-TIMEZONE:America/Los_Angeles
BEGIN:VEVENT
UID:15074@fakce.org
DTSTART;TZID=America/Los_Angeles:20260112T100000
DTEND;TZID=America/Los_Angeles:20260112T120000
DTSTAMP:20260109T203040Z
URL:https://fakce.org/events/online-allied-gardens-1-support-group-self-ca
 re-for-caregivers-2026-01-12/
SUMMARY:Online | Allied Gardens #1  Support Group: Self Care for Caregivers
DESCRIPTION:Meets every 2nd Monday of each month\n**No meeting in July**\nL
 eader: Lisa de las Alas\n\nTopic: This workshop will teach parents about 
 the importance of self‐care and how it relates to parenting\, managing s
 tress (coping with daily stress and frustration)\, and provide examples of
  self‐care activities. Parents will also learn tips to identify\, recogn
 ize\, and understand stress levels and how to minimize its toxic eﬀects.
 \n***Please Note: This class will be facilitated on the Zoom platform.\n I
 nternet access and access to a computer/laptop/tablet/smartphone is requir
 ed to attend.\nFor our support group meetings\, all participants must have
  their cameras on\, regardless of whether they are seeking credit or not.
  This requirement is designed to encourage full engagement and connection 
 among participants\, fostering a more supportive atmosphere within our com
 munity. Please note that individuals unable to participate with their came
 ras on will not be able to join the support group sessions.\nWe kindly req
 uest that participants avoid using distracting virtual backgrounds. For pr
 ivacy\, we recommend using the blur feature instead.\nYou cannot take this
  class in a vehicle.\nThe link to attend this class will be provided via e
 mail.\nPlease follow the link below for a brief tutorial on how to sign up
  for a free Zoom account.\nZoom User Guide
CATEGORIES:Classes,Online Classes,Support Groups,Workshops
LOCATION:Zoom\, 0000 Zoom \, San Diego\, United States
X-APPLE-STRUCTURED-LOCATION;VALUE=URI;X-ADDRESS=0000 Zoom \, San Diego\, Un
 ited States;X-APPLE-RADIUS=100;X-TITLE=Zoom:geo:0,0
END:VEVENT
BEGIN:VTIMEZONE
TZID:America/Los_Angeles
X-LIC-LOCATION:America/Los_Angeles
BEGIN:STANDARD
DTSTART:20251102T010000
TZOFFSETFROM:-0700
TZOFFSETTO:-0800
TZNAME:PST
END:STANDARD
END:VTIMEZONE
END:VCALENDAR