BEGIN:VCALENDAR
VERSION:2.0
PRODID:-//wp-events-plugin.com//7.2.3.1//EN
TZID:America/Los_Angeles
X-WR-TIMEZONE:America/Los_Angeles
BEGIN:VEVENT
UID:15077@fakce.org
DTSTART;TZID=America/Los_Angeles:20260413T100000
DTEND;TZID=America/Los_Angeles:20260413T120000
DTSTAMP:20260202T133835Z
URL:https://fakce.org/events/online-allied-gardens-1-support-group-long-te
 rm-consequences-of-child-abuse-neglect-2026-04-13/
SUMMARY:Online | Allied Gardens #1  Support Group: Long Term Consequences o
 f Child Abuse & Neglect
DESCRIPTION:Meets every 2nd Monday of each month\n**No meeting in July**\nL
 eader: Lisa de las Alas\n\nTopic:  Aside from the immediate physical inj
 uries children can experience through maltreatment\, a child’s reactions
  to abuse or neglect can have lifelong and even intergenerational impacts.
  Childhood maltreatment can be linked to later physical\, psychological\, 
 and behavioral consequences as well as costs to society as a whole. Parent
 s need to be aware of these issues in order to help children heal and incr
 ease protection factors for these children.\n***Please Note: This class wi
 ll be facilitated on the Zoom platform.\n Internet access and access to a 
 computer/laptop/tablet/smartphone is required to attend.\nFor our support 
 group meetings\, all participants must have their cameras on\, regardless
  of whether they are seeking credit or not. This requirement is designed t
 o encourage full engagement and connection among participants\, fostering 
 a more supportive atmosphere within our community. Please note that indivi
 duals unable to participate with their cameras on will not be able to join
  the support group sessions.\nWe kindly request that participants avoid us
 ing distracting virtual backgrounds. For privacy\, we recommend using the 
 blur feature instead.\nYou cannot take this class in a vehicle.\nThe link 
 to attend this class will be provided via email.\nPlease follow the link b
 elow for a brief tutorial on how to sign up for a free Zoom account.\nZoom
  User Guide
ATTACH;FMTTYPE=image/jpeg:https://fakce.org/wp-content/uploads/2015/03/CAP
 0034D.jpg
CATEGORIES:Classes,Online Classes,Support Groups,Workshops
LOCATION:Zoom\, 0000 Zoom \, San Diego\, United States
X-APPLE-STRUCTURED-LOCATION;VALUE=URI;X-ADDRESS=0000 Zoom \, San Diego\, Un
 ited States;X-APPLE-RADIUS=100;X-TITLE=Zoom:geo:0,0
END:VEVENT
BEGIN:VTIMEZONE
TZID:America/Los_Angeles
X-LIC-LOCATION:America/Los_Angeles
BEGIN:DAYLIGHT
DTSTART:20260308T030000
TZOFFSETFROM:-0800
TZOFFSETTO:-0700
TZNAME:PDT
END:DAYLIGHT
END:VTIMEZONE
END:VCALENDAR