BEGIN:VCALENDAR
VERSION:2.0
PRODID:-//wp-events-plugin.com//7.2.3.1//EN
TZID:America/Los_Angeles
X-WR-TIMEZONE:America/Los_Angeles
BEGIN:VEVENT
UID:17188@fakce.org
DTSTART;TZID=America/Los_Angeles:20241218T180000
DTEND;TZID=America/Los_Angeles:20241218T210000
DTSTAMP:20241212T192955Z
URL:https://fakce.org/events/online-adult-adoptee-panel-2024-12-18/
SUMMARY:Online | Adult Adoptee Panel
DESCRIPTION:A panel of adults who were adopted as children will share their
  perceptions about identity issues for adoptees\, growing up adopted\, sea
 rches and reunions with birth parents\, etc. Questions are welcomed.\nRegi
 stration closes on Wednesday\, December 18\, 2024 at 7 am \n***Please Not
 e: This class will be facilitated on the Zoom platform. \nInternet access 
 and access to a computer/laptop/tablet/smartphone is required to attend.\n
 The link to attend this class will be provided on the day of class via ema
 il.\nPlease follow the link below for a brief tutorial on how to sign up f
 or a free Zoom account.\nZoom User Guide
ATTACH;FMTTYPE=image/jpeg:https://fakce.org/wp-content/uploads/2016/08/Cha
 iKids.jpg
CATEGORIES:Adoption Classes,Classes,Online Classes
LOCATION:Zoom\, 0000 Zoom \, San Diego\, United States
X-APPLE-STRUCTURED-LOCATION;VALUE=URI;X-ADDRESS=0000 Zoom \, San Diego\, Un
 ited States;X-APPLE-RADIUS=100;X-TITLE=Zoom:geo:0,0
END:VEVENT
BEGIN:VTIMEZONE
TZID:America/Los_Angeles
X-LIC-LOCATION:America/Los_Angeles
BEGIN:STANDARD
DTSTART:20241103T010000
TZOFFSETFROM:-0700
TZOFFSETTO:-0800
TZNAME:PST
END:STANDARD
END:VTIMEZONE
END:VCALENDAR