BEGIN:VCALENDAR
VERSION:2.0
PRODID:-//wp-events-plugin.com//7.2.3.1//EN
TZID:America/Los_Angeles
X-WR-TIMEZONE:America/Los_Angeles
BEGIN:VEVENT
UID:14328@fakce.org
DTSTART;TZID=America/Los_Angeles:20220725T180000
DTEND;TZID=America/Los_Angeles:20220725T210000
DTSTAMP:20220413T174642Z
URL:https://fakce.org/events/online-adult-adoptee-panel-2022-07-25/
SUMMARY:Online | Adult Adoptee Panel
DESCRIPTION:A panel of adults who were adopted as children will share their
  perceptions about identity issues for adoptees\, growing up adopted\, sea
 rches and reunions with birth parents\, etc. Questions are welcomed.\nRegi
 stration closes on Monday\, July 25\, 2022 at 7am \n&nbsp\;\n***Please No
 te: This class will be facilitated on the online platform called Zoom. Int
 ernet access and access to a computer/laptop/tablet/smartphone is required
  to attend.\nThe link to attend this class will be provided on the day of 
 class.\nPlease follow the link below for a brief tutorial on how to sign u
 p for a free Zoom account.\nZoom User Guide
ATTACH;FMTTYPE=image/jpeg:https://fakce.org/wp-content/uploads/2016/08/Cha
 iKids.jpg
CATEGORIES:Adoption Classes,Classes,Online Classes
LOCATION:Zoom\, 0000 Zoom \, San Diego\, United States
X-APPLE-STRUCTURED-LOCATION;VALUE=URI;X-ADDRESS=0000 Zoom \, San Diego\, Un
 ited States;X-APPLE-RADIUS=100;X-TITLE=Zoom:geo:0,0
END:VEVENT
BEGIN:VTIMEZONE
TZID:America/Los_Angeles
X-LIC-LOCATION:America/Los_Angeles
BEGIN:DAYLIGHT
DTSTART:20220313T030000
TZOFFSETFROM:-0800
TZOFFSETTO:-0700
TZNAME:PDT
END:DAYLIGHT
END:VTIMEZONE
END:VCALENDAR