BEGIN:VCALENDAR
VERSION:2.0
PRODID:-//wp-events-plugin.com//7.2.3.1//EN
TZID:America/Los_Angeles
X-WR-TIMEZONE:America/Los_Angeles
BEGIN:VEVENT
UID:15814@fakce.org
DTSTART;TZID=America/Los_Angeles:20230817T180000
DTEND;TZID=America/Los_Angeles:20230817T210000
DTSTAMP:20230612T213806Z
URL:https://fakce.org/events/online-adoption-in-the-movies-2023-08-17/
SUMMARY:Online | Adoption in the Movies
DESCRIPTION:Get your family talking about adoption naturally through the ma
 gic of films.  Movies about adoption help all members of the family explo
 re the pain and joys of adoption.  In this class\, we will highlight seve
 ral adoption movies\, discuss and explore how adoption movies can help chi
 ldren feel safe to ask questions\, and understand their story\, identity a
 nd culture.  You won’t want to miss this fun class!\nRegistration will 
 close Thursday\, August 17\, 2023 at 7 am \n***Please Note: This class wi
 ll be facilitated on the online platform called Zoom. Internet access and 
 access to a computer/laptop/tablet/smartphone is required to attend.\nThe 
 link to attend this class will be provided at registration.\nPlease follow
  the link below for a brief tutorial on how to sign up for a free Zoom acc
 ount.\nZoom User Guide\n&nbsp\;
ATTACH;FMTTYPE=image/jpeg:https://fakce.org/wp-content/uploads/2016/03/fam
 ily-1003817_1280.jpg
CATEGORIES:Adoption Classes,Classes,Online Classes
LOCATION:Zoom\, 0000 Zoom \, San Diego\, United States
X-APPLE-STRUCTURED-LOCATION;VALUE=URI;X-ADDRESS=0000 Zoom \, San Diego\, Un
 ited States;X-APPLE-RADIUS=100;X-TITLE=Zoom:geo:0,0
END:VEVENT
BEGIN:VTIMEZONE
TZID:America/Los_Angeles
X-LIC-LOCATION:America/Los_Angeles
BEGIN:DAYLIGHT
DTSTART:20230312T030000
TZOFFSETFROM:-0800
TZOFFSETTO:-0700
TZNAME:PDT
END:DAYLIGHT
END:VTIMEZONE
END:VCALENDAR