BEGIN:VCALENDAR
VERSION:2.0
PRODID:-//wp-events-plugin.com//7.2.3.1//EN
TZID:America/Los_Angeles
X-WR-TIMEZONE:America/Los_Angeles
BEGIN:VEVENT
UID:14270@fakce.org
DTSTART;TZID=America/Los_Angeles:20220519T180000
DTEND;TZID=America/Los_Angeles:20220526T210000
DTSTAMP:20220405T220411Z
URL:https://fakce.org/events/online-10-things-every-child-with-autism-wish
 es-you-knew-2022-05-19/
SUMMARY:Online | 10 Things Every Child with Autism Wishes You Knew
DESCRIPTION:A Series of 2 Workshops\nRegistering for session 1 automaticall
 y registers you in all sessions \nPlease join Michelle McGowan\, Special 
 Education Advocate and adoptive mom with 3 young sons\, 2 on the Autism S
 pectrum as she shares personal stories of the trials and triumph of raisin
 g children on the Autism Spectrum. This 2‐part class will enlighten and 
 empower you as you seek to ﬁnd the best therapies\, community supports a
 nd a better understanding of the various needs of children on the Autism 
 Spectrum.\n\n 	Session 1: Thursday\, May 19\, 2022\n 	Session 2: Thursday\
 , May 26\, 2022\n\nRegistration will close on Thursday May 19\, 2022\, at 
 7am\n***Please Note: This class will be facilitated on the online platform
  called Zoom. Internet access and access to a computer/laptop/tablet/smart
 phone is required to attend.\nThe link to attend this class will be provid
 ed at registration.\nPlease follow the link below for a brief tutorial on 
 how to sign up for a free Zoom account.\nZoom User Guide
ATTACH;FMTTYPE=image/jpeg:https://fakce.org/wp-content/uploads/2016/08/o-C
 LASSROOM-facebook.jpg
CATEGORIES:Classes,Online Classes,Specialty Classes
LOCATION:Zoom\, 0000 Zoom \, San Diego\, United States
X-APPLE-STRUCTURED-LOCATION;VALUE=URI;X-ADDRESS=0000 Zoom \, San Diego\, Un
 ited States;X-APPLE-RADIUS=100;X-TITLE=Zoom:geo:0,0
END:VEVENT
BEGIN:VTIMEZONE
TZID:America/Los_Angeles
X-LIC-LOCATION:America/Los_Angeles
BEGIN:DAYLIGHT
DTSTART:20220313T030000
TZOFFSETFROM:-0800
TZOFFSETTO:-0700
TZNAME:PDT
END:DAYLIGHT
END:VTIMEZONE
END:VCALENDAR