BEGIN:VCALENDAR
VERSION:2.0
PRODID:-//wp-events-plugin.com//7.2.3.1//EN
TZID:America/Los_Angeles
X-WR-TIMEZONE:America/Los_Angeles
BEGIN:VEVENT
UID:17716@fakce.org
DTSTART;TZID=America/Los_Angeles:20250510T090000
DTEND;TZID=America/Los_Angeles:20250517T153000
DTSTAMP:20250506T182244Z
URL:https://fakce.org/events/in-person-tips-851/
SUMMARY:Canceled | TIPS 851
DESCRIPTION:**This series has been canceled**\nTIPS is the 12-hour pre-serv
 ice training program that is required prior to being approved as a Resourc
 e Parent by the County of San Diego.  The TIPS training consists of 2\, 6
 -hour training sessions.\n\nYou are registering for TIPS 851.  The dates 
 for each of the  sessions are as follows:\n\nSession # 1 | Saturday\, May
  10\, 2025\, 9am-12pm\nSession # 2 | Saturday\, May 10\, 2025\, 12:30pm-3:
 30pm\nSession # 3 | Saturday\, May 17\, 2025\, 9am-12pm\nSession # 4 | Sat
 urday\, May 17\, 2025\, 12:30pm-3:30pm\n\nYou will receive an email confi
 rmation of your registration. The email will provide you with the first da
 te of the class\, as well as the time and location. The dates for sessions
  2\, 3\, and 4 will not be provided. Please make a note of those dates o
 r reference the main TIPS page- Click here.\n\nPlease note that no childc
 are is provided or available onsite. Do not bring babies or children to cl
 ass. \nLight breakfast and Lunch will be provided.
ATTACH;FMTTYPE=image/jpeg:https://fakce.org/wp-content/uploads/2015/03/200
 267549-001.jpg
CATEGORIES:TIPS Classes,TIPS Sessions
LOCATION:Metro-Balboa\, 8911 Balboa Ave.\, San Diego\, CA\, 92123\, United 
 States
GEO:32.8204791;-117.13626829999998
X-APPLE-STRUCTURED-LOCATION;VALUE=URI;X-ADDRESS=8911 Balboa Ave.\, San Dieg
 o\, CA\, 92123\, United States;X-APPLE-RADIUS=100;X-TITLE=Metro-Balboa:geo
 :32.8204791,-117.13626829999998
END:VEVENT
BEGIN:VTIMEZONE
TZID:America/Los_Angeles
X-LIC-LOCATION:America/Los_Angeles
BEGIN:DAYLIGHT
DTSTART:20250309T030000
TZOFFSETFROM:-0800
TZOFFSETTO:-0700
TZNAME:PDT
END:DAYLIGHT
END:VTIMEZONE
END:VCALENDAR