BEGIN:VCALENDAR
VERSION:2.0
PRODID:-//wp-events-plugin.com//7.2.3.1//EN
TZID:America/Los_Angeles
X-WR-TIMEZONE:America/Los_Angeles
BEGIN:VEVENT
UID:17332@fakce.org
DTSTART;TZID=America/Los_Angeles:20250125T090000
DTEND;TZID=America/Los_Angeles:20250201T153000
DTSTAMP:20250123T120333Z
URL:https://fakce.org/events/in-person-tips-813/
SUMMARY:In-Person | TIPS 813
DESCRIPTION:TIPS is the 12-hour pre-service training program that is requir
 ed prior to being approved as a Resource Parent by the County of San Diego
 .  The TIPS training consists of 2\, 6-hour training sessions.\n\nYou are
  registering for TIPS 813.  The dates for each of the  sessions are as f
 ollows:\n\nSession # 1 | Saturday\, January 25\, 2025\, 9am-12pm\nSession 
 # 2 | Saturday\, January 25\, 2025\, 12:30pm-3:30pm\nSession # 3 | Saturda
 y\, February 1\, 2025\, 9am-12pm\nSession # 4 | Saturday\, February 1\, 20
 25\, 12:30pm-3:30pm\n\nYou will receive an email confirmation of your reg
 istration. The email will provide you with the first date of the class\, a
 s well as the time and location. The dates for sessions 2\, 3\, and 4 wil
 l not be provided. Please make a note of those dates or reference the mai
 n TIPS page- Click here.\n\nPlease note that no childcare is provided or 
 available onsite. Do not bring babies or children to class. Thank you!\n\n
 Light breakfast and lunch will be provided.\nRegistration for this class c
 loses on Friday\, January 24\, 2025\, at 6 pm
ATTACH;FMTTYPE=image/jpeg:https://fakce.org/wp-content/uploads/2015/03/200
 267549-001.jpg
CATEGORIES:TIPS Classes,TIPS Sessions
LOCATION:Metro-Balboa\, 8911 Balboa Ave.\, San Diego\, CA\, 92123\, United 
 States
GEO:32.8204791;-117.13626829999998
X-APPLE-STRUCTURED-LOCATION;VALUE=URI;X-ADDRESS=8911 Balboa Ave.\, San Dieg
 o\, CA\, 92123\, United States;X-APPLE-RADIUS=100;X-TITLE=Metro-Balboa:geo
 :32.8204791,-117.13626829999998
END:VEVENT
BEGIN:VTIMEZONE
TZID:America/Los_Angeles
X-LIC-LOCATION:America/Los_Angeles
BEGIN:STANDARD
DTSTART:20241103T010000
TZOFFSETFROM:-0700
TZOFFSETTO:-0800
TZNAME:PST
END:STANDARD
END:VTIMEZONE
END:VCALENDAR