BEGIN:VCALENDAR
VERSION:2.0
PRODID:-//wp-events-plugin.com//7.2.3.1//EN
TZID:America/Los_Angeles
X-WR-TIMEZONE:America/Los_Angeles
BEGIN:VEVENT
UID:15688@fakce.org
DTSTART;TZID=America/Los_Angeles:20230525T180000
DTEND;TZID=America/Los_Angeles:20230525T210000
DTSTAMP:20230525T154043Z
URL:https://fakce.org/events/in-person-the-bipoc-human-library-experience-
 2023-05-25/
SUMMARY:In Person | The BIPOC Human Library Experience
DESCRIPTION:Thursday\, May 25\, 2023 | 6pm-9pm\n* Training hours 3. Trainin
 g starts promptly at 6pm\nDinner Included—Served from 5pm-6:30pm\nHandle
 ry Hotel in Mission Valley\, 950 Hotel Cir N\, San Diego\, CA 92108\n* In-
 Person *\nRead me like a book: The BIPOC Human Library Experience helps to
  address unconscious bias and creates a brave space for dialogue between n
 on‐BIPOC individuals and BIPOC individuals. The BIPOC Human Library Expe
 rience aims to address people's prejudices by helping them to talk and lea
 rn from those they would not normally meet. It uses a library analogy of l
 ending people rather than books. During this session\, participants will h
 ave the opportunity to learn more about the Human Library concept and see 
 the process in action.\n\nLearning Objectives:\n\n 	Gain diverse perspecti
 ves from others\n 	Develop trauma-informed\, compassionate\, and empatheti
 c communication through active listening\, curiosity\, and appreciative in
 quiry\n 	Improve storytelling and speaking skills by telling your sacred s
 tory in a brave space\n\nOn the day of class participants will choose two 
 (2) books they want to hear from in the library catalog below. Please clic
 k the link or scroll down below to review the library catalog.\nBIPOC Huma
 n Library Catalog\n\n\n\nPlease note\, childcare is not provided onsite. P
 lease do not bring babies or children to class.\n\n
ATTACH;FMTTYPE=image/jpeg:https://fakce.org/wp-content/uploads/2018/08/Mul
 tiCultural-Children.png
CATEGORIES:Classes,Specialty Classes
LOCATION:Handlery Hotel\, 950 Hotel Circle North\, San Diego\, CA\, 92108\,
  United States
GEO:32.7612399;-117.17291210000002
X-APPLE-STRUCTURED-LOCATION;VALUE=URI;X-ADDRESS=950 Hotel Circle North\, Sa
 n Diego\, CA\, 92108\, United States;X-APPLE-RADIUS=100;X-TITLE=Handlery H
 otel:geo:32.7612399,-117.17291210000002
END:VEVENT
BEGIN:VTIMEZONE
TZID:America/Los_Angeles
X-LIC-LOCATION:America/Los_Angeles
BEGIN:DAYLIGHT
DTSTART:20230312T030000
TZOFFSETFROM:-0800
TZOFFSETTO:-0700
TZNAME:PDT
END:DAYLIGHT
END:VTIMEZONE
END:VCALENDAR