BEGIN:VCALENDAR
VERSION:2.0
PRODID:-//wp-events-plugin.com//7.2.3.1//EN
TZID:America/Los_Angeles
X-WR-TIMEZONE:America/Los_Angeles
BEGIN:VEVENT
UID:15488@fakce.org
DTSTART;TZID=America/Los_Angeles:20230225T090000
DTEND;TZID=America/Los_Angeles:20230225T153000
DTSTAMP:20230224T172331Z
URL:https://fakce.org/events/in-person-road-to-recovery-supporting-childre
 n-with-intellectual-and-developmental-disabilities-idd-who-have-experience
 d-trauma-part-1-2023-02-25/
SUMMARY:In Person | Road to Recovery: Supporting Children with Intellectual
  and Developmental Disabilities (IDD) Who Have Experienced Trauma - Part 1
DESCRIPTION:Description: This workshop will provide an essential overview o
 n how to work with children and families who are living with intellectual 
 and development disabilities (IDD) and have experienced trauma.\nThe Road 
 to Recovery: Supporting Children with Intellectual and Developmental Disab
 ilities Who Have Experienced Trauma is a training that is designed to teac
 h basic knowledge\, skills\, and values about working with children with I
 DD who have had traumatic experiences\, and how to use this knowledge to s
 upport children's safety\, well-being\, happiness\, and recovery through t
 rauma-informed practice. This critical workshop is not to be missed!\n&nbs
 p\;\n***Please Note: Lunch will be provided
ATTACH;FMTTYPE=image/jpeg:https://fakce.org/wp-content/uploads/2016/05/150
 513-motherdaughter-stock.jpg
CATEGORIES:Classes,Online Classes,Specialty Classes
LOCATION:San Diego Marriott Mission Valley\, 8757 Rio San Diego\, San Diego
 \, CA\, 92108\, United States
GEO:32.775294;-117.139907
X-APPLE-STRUCTURED-LOCATION;VALUE=URI;X-ADDRESS=8757 Rio San Diego\, San Di
 ego\, CA\, 92108\, United States;X-APPLE-RADIUS=100;X-TITLE=San Diego Marr
 iott Mission Valley:geo:32.775294,-117.139907
END:VEVENT
BEGIN:VTIMEZONE
TZID:America/Los_Angeles
X-LIC-LOCATION:America/Los_Angeles
BEGIN:STANDARD
DTSTART:20221106T010000
TZOFFSETFROM:-0700
TZOFFSETTO:-0800
TZNAME:PST
END:STANDARD
END:VTIMEZONE
END:VCALENDAR