BEGIN:VCALENDAR
VERSION:2.0
PRODID:-//wp-events-plugin.com//7.2.3.1//EN
TZID:America/Los_Angeles
X-WR-TIMEZONE:America/Los_Angeles
BEGIN:VEVENT
UID:18541@fakce.org
DTSTART;TZID=America/Los_Angeles:20260418T090000
DTEND;TZID=America/Los_Angeles:20260418T120000
DTSTAMP:20260102T124239Z
URL:https://fakce.org/events/in-person-risk-factors-2026-04-18/
SUMMARY:In Person | Risk Factors
DESCRIPTION:Description:  This class will look at potential risks and chall
 enges to a permanent placement\, including legal issues\, health issues\, 
 behavior and mental health\, and lifelong effects of prenatal exposures.\n
 You will receive an email confirmation of your registration. The email wi
 ll provide you with the date of the class\, as well as the time and locati
 on. \n\nPlease note that no childcare is provided or available on-site. D
 o not bring babies or children to class. \nLight breakfast and Lunch will
  be provided.
ATTACH;FMTTYPE=image/jpeg:https://fakce.org/wp-content/uploads/2015/03/FTI
 0027F.jpg
CATEGORIES:Adoption Classes,Classes,Online Classes
LOCATION:Metro-Balboa\, 8911 Balboa Ave.\, San Diego\, CA\, 92123\, United 
 States
GEO:32.8204791;-117.13626829999998
X-APPLE-STRUCTURED-LOCATION;VALUE=URI;X-ADDRESS=8911 Balboa Ave.\, San Dieg
 o\, CA\, 92123\, United States;X-APPLE-RADIUS=100;X-TITLE=Metro-Balboa:geo
 :32.8204791,-117.13626829999998
END:VEVENT
BEGIN:VTIMEZONE
TZID:America/Los_Angeles
X-LIC-LOCATION:America/Los_Angeles
BEGIN:DAYLIGHT
DTSTART:20260308T030000
TZOFFSETFROM:-0800
TZOFFSETTO:-0700
TZNAME:PDT
END:DAYLIGHT
END:VTIMEZONE
END:VCALENDAR